BEGIN:VCALENDAR
VERSION:2.0
PRODID:-//Sackets Harbor Sportsman Club - ECPv6.15.17.1//NONSGML v1.0//EN
CALSCALE:GREGORIAN
METHOD:PUBLISH
X-ORIGINAL-URL:https://www.sacketsharborsportsmansclub.com
X-WR-CALDESC:Events for Sackets Harbor Sportsman Club
REFRESH-INTERVAL;VALUE=DURATION:PT1H
X-Robots-Tag:noindex
X-PUBLISHED-TTL:PT1H
BEGIN:VTIMEZONE
TZID:America/New_York
BEGIN:DAYLIGHT
TZOFFSETFROM:-0500
TZOFFSETTO:-0400
TZNAME:EDT
DTSTART:20250309T070000
END:DAYLIGHT
BEGIN:STANDARD
TZOFFSETFROM:-0400
TZOFFSETTO:-0500
TZNAME:EST
DTSTART:20251102T060000
END:STANDARD
BEGIN:DAYLIGHT
TZOFFSETFROM:-0500
TZOFFSETTO:-0400
TZNAME:EDT
DTSTART:20260308T070000
END:DAYLIGHT
BEGIN:STANDARD
TZOFFSETFROM:-0400
TZOFFSETTO:-0500
TZNAME:EST
DTSTART:20261101T060000
END:STANDARD
BEGIN:DAYLIGHT
TZOFFSETFROM:-0500
TZOFFSETTO:-0400
TZNAME:EDT
DTSTART:20270314T070000
END:DAYLIGHT
BEGIN:STANDARD
TZOFFSETFROM:-0400
TZOFFSETTO:-0500
TZNAME:EST
DTSTART:20271107T060000
END:STANDARD
END:VTIMEZONE
BEGIN:VEVENT
DTSTART;TZID=America/New_York:20260820T163000
DTEND;TZID=America/New_York:20260820T210000
DTSTAMP:20260421T133548
CREATED:20260413T163232Z
LAST-MODIFIED:20260413T163232Z
UID:10002268-1787243400-1787259600@www.sacketsharborsportsmansclub.com
SUMMARY:NTTL League Shoot Sackets @ Carthage
DESCRIPTION:
URL:https://www.sacketsharborsportsmansclub.com/event/nttl-league-shoot-sackets-carthage/
CATEGORIES:Events
END:VEVENT
BEGIN:VEVENT
DTSTART;TZID=America/New_York:20260823T080000
DTEND;TZID=America/New_York:20260823T120000
DTSTAMP:20260421T133548
CREATED:20260326T140953Z
LAST-MODIFIED:20260326T140953Z
UID:10002201-1787472000-1787486400@www.sacketsharborsportsmansclub.com
SUMMARY:Claycrushers Practice
DESCRIPTION:
URL:https://www.sacketsharborsportsmansclub.com/event/claycrushers-practice-2/2026-08-23/
CATEGORIES:Events
END:VEVENT
BEGIN:VEVENT
DTSTART;TZID=America/New_York:20260823T090000
DTEND;TZID=America/New_York:20260823T120000
DTSTAMP:20260421T133548
CREATED:20260325T230617Z
LAST-MODIFIED:20260325T230617Z
UID:10001858-1787475600-1787486400@www.sacketsharborsportsmansclub.com
SUMMARY:Trap Practice
DESCRIPTION:
URL:https://www.sacketsharborsportsmansclub.com/event/trap-practice/2026-08-23/
CATEGORIES:Events
END:VEVENT
BEGIN:VEVENT
DTSTART;TZID=America/New_York:20260826T033000
DTEND;TZID=America/New_York:20260826T210000
DTSTAMP:20260421T133548
CREATED:20260325T230857Z
LAST-MODIFIED:20260325T230857Z
UID:10002119-1787715000-1787778000@www.sacketsharborsportsmansclub.com
SUMMARY:Trap Practice
DESCRIPTION:
URL:https://www.sacketsharborsportsmansclub.com/event/trap-practice-3/2026-08-26/
CATEGORIES:Events
END:VEVENT
BEGIN:VEVENT
DTSTART;TZID=America/New_York:20260827T163000
DTEND;TZID=America/New_York:20260827T210000
DTSTAMP:20260421T133548
CREATED:20260413T163720Z
LAST-MODIFIED:20260413T164017Z
UID:10002269-1787848200-1787864400@www.sacketsharborsportsmansclub.com
SUMMARY:NTTL League Shoot Sackets @ Lyme
DESCRIPTION:
URL:https://www.sacketsharborsportsmansclub.com/event/nttl-league-shoot-sackets-adams-center-2/
CATEGORIES:Events
END:VEVENT
BEGIN:VEVENT
DTSTART;TZID=America/New_York:20260830T080000
DTEND;TZID=America/New_York:20260830T120000
DTSTAMP:20260421T133548
CREATED:20260326T140953Z
LAST-MODIFIED:20260326T140953Z
UID:10002202-1788076800-1788091200@www.sacketsharborsportsmansclub.com
SUMMARY:Claycrushers Practice
DESCRIPTION:
URL:https://www.sacketsharborsportsmansclub.com/event/claycrushers-practice-2/2026-08-30/
CATEGORIES:Events
END:VEVENT
BEGIN:VEVENT
DTSTART;TZID=America/New_York:20260830T090000
DTEND;TZID=America/New_York:20260830T120000
DTSTAMP:20260421T133548
CREATED:20260325T230617Z
LAST-MODIFIED:20260325T230617Z
UID:10001859-1788080400-1788091200@www.sacketsharborsportsmansclub.com
SUMMARY:Trap Practice
DESCRIPTION:
URL:https://www.sacketsharborsportsmansclub.com/event/trap-practice/2026-08-30/
CATEGORIES:Events
END:VEVENT
BEGIN:VEVENT
DTSTART;TZID=America/New_York:20260902T033000
DTEND;TZID=America/New_York:20260902T210000
DTSTAMP:20260421T133548
CREATED:20260325T230857Z
LAST-MODIFIED:20260325T230857Z
UID:10002120-1788319800-1788382800@www.sacketsharborsportsmansclub.com
SUMMARY:Trap Practice
DESCRIPTION:
URL:https://www.sacketsharborsportsmansclub.com/event/trap-practice-3/2026-09-02/
CATEGORIES:Events
END:VEVENT
BEGIN:VEVENT
DTSTART;TZID=America/New_York:20260903T163000
DTEND;TZID=America/New_York:20260903T210000
DTSTAMP:20260421T133548
CREATED:20260413T163851Z
LAST-MODIFIED:20260413T163851Z
UID:10002270-1788453000-1788469200@www.sacketsharborsportsmansclub.com
SUMMARY:NTTL League Shoot Adams Center @ Sackets
DESCRIPTION:
URL:https://www.sacketsharborsportsmansclub.com/event/nttl-league-shoot-adams-center-sackets/
CATEGORIES:Events
END:VEVENT
BEGIN:VEVENT
DTSTART;TZID=America/New_York:20260906T080000
DTEND;TZID=America/New_York:20260906T120000
DTSTAMP:20260421T133548
CREATED:20260326T140953Z
LAST-MODIFIED:20260326T140953Z
UID:10002203-1788681600-1788696000@www.sacketsharborsportsmansclub.com
SUMMARY:Claycrushers Practice
DESCRIPTION:
URL:https://www.sacketsharborsportsmansclub.com/event/claycrushers-practice-2/2026-09-06/
CATEGORIES:Events
END:VEVENT
BEGIN:VEVENT
DTSTART;TZID=America/New_York:20260906T090000
DTEND;TZID=America/New_York:20260906T120000
DTSTAMP:20260421T133548
CREATED:20260325T230617Z
LAST-MODIFIED:20260325T230617Z
UID:10001860-1788685200-1788696000@www.sacketsharborsportsmansclub.com
SUMMARY:Trap Practice
DESCRIPTION:
URL:https://www.sacketsharborsportsmansclub.com/event/trap-practice/2026-09-06/
CATEGORIES:Events
END:VEVENT
BEGIN:VEVENT
DTSTART;TZID=America/New_York:20260909T033000
DTEND;TZID=America/New_York:20260909T210000
DTSTAMP:20260421T133548
CREATED:20260325T230857Z
LAST-MODIFIED:20260325T230857Z
UID:10002121-1788924600-1788987600@www.sacketsharborsportsmansclub.com
SUMMARY:Trap Practice
DESCRIPTION:
URL:https://www.sacketsharborsportsmansclub.com/event/trap-practice-3/2026-09-09/
CATEGORIES:Events
END:VEVENT
BEGIN:VEVENT
DTSTART;TZID=America/New_York:20260910T163000
DTEND;TZID=America/New_York:20260910T210000
DTSTAMP:20260421T133548
CREATED:20260413T164234Z
LAST-MODIFIED:20260413T164234Z
UID:10002271-1789057800-1789074000@www.sacketsharborsportsmansclub.com
SUMMARY:NTTL League Shoot Glen-Greig @ Sackets
DESCRIPTION:
URL:https://www.sacketsharborsportsmansclub.com/event/nttl-league-shoot-glen-greig-sackets/
CATEGORIES:Events
END:VEVENT
BEGIN:VEVENT
DTSTART;TZID=America/New_York:20260913T080000
DTEND;TZID=America/New_York:20260913T120000
DTSTAMP:20260421T133548
CREATED:20260326T140953Z
LAST-MODIFIED:20260326T140953Z
UID:10002204-1789286400-1789300800@www.sacketsharborsportsmansclub.com
SUMMARY:Claycrushers Practice
DESCRIPTION:
URL:https://www.sacketsharborsportsmansclub.com/event/claycrushers-practice-2/2026-09-13/
CATEGORIES:Events
END:VEVENT
BEGIN:VEVENT
DTSTART;TZID=America/New_York:20260913T090000
DTEND;TZID=America/New_York:20260913T120000
DTSTAMP:20260421T133548
CREATED:20260325T230617Z
LAST-MODIFIED:20260325T230617Z
UID:10001861-1789290000-1789300800@www.sacketsharborsportsmansclub.com
SUMMARY:Trap Practice
DESCRIPTION:
URL:https://www.sacketsharborsportsmansclub.com/event/trap-practice/2026-09-13/
CATEGORIES:Events
END:VEVENT
BEGIN:VEVENT
DTSTART;TZID=America/New_York:20260914T190000
DTEND;TZID=America/New_York:20260914T203000
DTSTAMP:20260421T133548
CREATED:20250820T151007Z
LAST-MODIFIED:20250820T151357Z
UID:10001201-1789412400-1789417800@www.sacketsharborsportsmansclub.com
SUMMARY:Monthly Club Business Meeting.  All members are welcome.
DESCRIPTION:
URL:https://www.sacketsharborsportsmansclub.com/event/monthly-club-business-meeting-all-members-are-welcome-7/2026-09-14/
CATEGORIES:Events
END:VEVENT
BEGIN:VEVENT
DTSTART;TZID=America/New_York:20260916T033000
DTEND;TZID=America/New_York:20260916T210000
DTSTAMP:20260421T133548
CREATED:20260325T230857Z
LAST-MODIFIED:20260325T230857Z
UID:10002122-1789529400-1789592400@www.sacketsharborsportsmansclub.com
SUMMARY:Trap Practice
DESCRIPTION:
URL:https://www.sacketsharborsportsmansclub.com/event/trap-practice-3/2026-09-16/
CATEGORIES:Events
END:VEVENT
BEGIN:VEVENT
DTSTART;TZID=America/New_York:20260920T080000
DTEND;TZID=America/New_York:20260920T120000
DTSTAMP:20260421T133548
CREATED:20260326T140953Z
LAST-MODIFIED:20260326T140953Z
UID:10002205-1789891200-1789905600@www.sacketsharborsportsmansclub.com
SUMMARY:Claycrushers Practice
DESCRIPTION:
URL:https://www.sacketsharborsportsmansclub.com/event/claycrushers-practice-2/2026-09-20/
CATEGORIES:Events
END:VEVENT
BEGIN:VEVENT
DTSTART;TZID=America/New_York:20260920T090000
DTEND;TZID=America/New_York:20260920T120000
DTSTAMP:20260421T133548
CREATED:20260325T230617Z
LAST-MODIFIED:20260325T230617Z
UID:10001862-1789894800-1789905600@www.sacketsharborsportsmansclub.com
SUMMARY:Trap Practice
DESCRIPTION:
URL:https://www.sacketsharborsportsmansclub.com/event/trap-practice/2026-09-20/
CATEGORIES:Events
END:VEVENT
BEGIN:VEVENT
DTSTART;TZID=America/New_York:20260923T033000
DTEND;TZID=America/New_York:20260923T210000
DTSTAMP:20260421T133548
CREATED:20260325T230857Z
LAST-MODIFIED:20260325T230857Z
UID:10002123-1790134200-1790197200@www.sacketsharborsportsmansclub.com
SUMMARY:Trap Practice
DESCRIPTION:
URL:https://www.sacketsharborsportsmansclub.com/event/trap-practice-3/2026-09-23/
CATEGORIES:Events
END:VEVENT
BEGIN:VEVENT
DTSTART;TZID=America/New_York:20260927T080000
DTEND;TZID=America/New_York:20260927T120000
DTSTAMP:20260421T133548
CREATED:20260326T140953Z
LAST-MODIFIED:20260326T140953Z
UID:10002206-1790496000-1790510400@www.sacketsharborsportsmansclub.com
SUMMARY:Claycrushers Practice
DESCRIPTION:
URL:https://www.sacketsharborsportsmansclub.com/event/claycrushers-practice-2/2026-09-27/
CATEGORIES:Events
END:VEVENT
BEGIN:VEVENT
DTSTART;TZID=America/New_York:20260927T090000
DTEND;TZID=America/New_York:20260927T120000
DTSTAMP:20260421T133548
CREATED:20260325T230617Z
LAST-MODIFIED:20260325T230617Z
UID:10001863-1790499600-1790510400@www.sacketsharborsportsmansclub.com
SUMMARY:Trap Practice
DESCRIPTION:
URL:https://www.sacketsharborsportsmansclub.com/event/trap-practice/2026-09-27/
CATEGORIES:Events
END:VEVENT
BEGIN:VEVENT
DTSTART;TZID=America/New_York:20260930T033000
DTEND;TZID=America/New_York:20260930T210000
DTSTAMP:20260421T133548
CREATED:20260325T230857Z
LAST-MODIFIED:20260325T230857Z
UID:10002124-1790739000-1790802000@www.sacketsharborsportsmansclub.com
SUMMARY:Trap Practice
DESCRIPTION:
URL:https://www.sacketsharborsportsmansclub.com/event/trap-practice-3/2026-09-30/
CATEGORIES:Events
END:VEVENT
BEGIN:VEVENT
DTSTART;TZID=America/New_York:20261004T080000
DTEND;TZID=America/New_York:20261004T120000
DTSTAMP:20260421T133548
CREATED:20260326T140953Z
LAST-MODIFIED:20260326T140953Z
UID:10002207-1791100800-1791115200@www.sacketsharborsportsmansclub.com
SUMMARY:Claycrushers Practice
DESCRIPTION:
URL:https://www.sacketsharborsportsmansclub.com/event/claycrushers-practice-2/2026-10-04/
CATEGORIES:Events
END:VEVENT
BEGIN:VEVENT
DTSTART;TZID=America/New_York:20261004T090000
DTEND;TZID=America/New_York:20261004T120000
DTSTAMP:20260421T133548
CREATED:20260325T230617Z
LAST-MODIFIED:20260325T230617Z
UID:10001864-1791104400-1791115200@www.sacketsharborsportsmansclub.com
SUMMARY:Trap Practice
DESCRIPTION:
URL:https://www.sacketsharborsportsmansclub.com/event/trap-practice/2026-10-04/
CATEGORIES:Events
END:VEVENT
BEGIN:VEVENT
DTSTART;TZID=America/New_York:20261007T033000
DTEND;TZID=America/New_York:20261007T210000
DTSTAMP:20260421T133548
CREATED:20260325T230857Z
LAST-MODIFIED:20260325T230857Z
UID:10002125-1791343800-1791406800@www.sacketsharborsportsmansclub.com
SUMMARY:Trap Practice
DESCRIPTION:
URL:https://www.sacketsharborsportsmansclub.com/event/trap-practice-3/2026-10-07/
CATEGORIES:Events
END:VEVENT
BEGIN:VEVENT
DTSTART;TZID=America/New_York:20261011T080000
DTEND;TZID=America/New_York:20261011T120000
DTSTAMP:20260421T133548
CREATED:20260326T140953Z
LAST-MODIFIED:20260326T140953Z
UID:10002208-1791705600-1791720000@www.sacketsharborsportsmansclub.com
SUMMARY:Claycrushers Practice
DESCRIPTION:
URL:https://www.sacketsharborsportsmansclub.com/event/claycrushers-practice-2/2026-10-11/
CATEGORIES:Events
END:VEVENT
BEGIN:VEVENT
DTSTART;TZID=America/New_York:20261011T090000
DTEND;TZID=America/New_York:20261011T120000
DTSTAMP:20260421T133548
CREATED:20260325T230617Z
LAST-MODIFIED:20260325T230617Z
UID:10001865-1791709200-1791720000@www.sacketsharborsportsmansclub.com
SUMMARY:Trap Practice
DESCRIPTION:
URL:https://www.sacketsharborsportsmansclub.com/event/trap-practice/2026-10-11/
CATEGORIES:Events
END:VEVENT
BEGIN:VEVENT
DTSTART;TZID=America/New_York:20261012T190000
DTEND;TZID=America/New_York:20261012T203000
DTSTAMP:20260421T133548
CREATED:20250820T151007Z
LAST-MODIFIED:20250820T151357Z
UID:10001202-1791831600-1791837000@www.sacketsharborsportsmansclub.com
SUMMARY:Monthly Club Business Meeting.  All members are welcome.
DESCRIPTION:
URL:https://www.sacketsharborsportsmansclub.com/event/monthly-club-business-meeting-all-members-are-welcome-7/2026-10-12/
CATEGORIES:Events
END:VEVENT
BEGIN:VEVENT
DTSTART;TZID=America/New_York:20261014T033000
DTEND;TZID=America/New_York:20261014T210000
DTSTAMP:20260421T133548
CREATED:20260325T230857Z
LAST-MODIFIED:20260325T230857Z
UID:10002126-1791948600-1792011600@www.sacketsharborsportsmansclub.com
SUMMARY:Trap Practice
DESCRIPTION:
URL:https://www.sacketsharborsportsmansclub.com/event/trap-practice-3/2026-10-14/
CATEGORIES:Events
END:VEVENT
END:VCALENDAR