BEGIN:VCALENDAR
VERSION:2.0
PRODID:-//Sackets Harbor Sportsman Club - ECPv6.15.17.1//NONSGML v1.0//EN
CALSCALE:GREGORIAN
METHOD:PUBLISH
X-WR-CALNAME:Sackets Harbor Sportsman Club
X-ORIGINAL-URL:https://www.sacketsharborsportsmansclub.com
X-WR-CALDESC:Events for Sackets Harbor Sportsman Club
REFRESH-INTERVAL;VALUE=DURATION:PT1H
X-Robots-Tag:noindex
X-PUBLISHED-TTL:PT1H
BEGIN:VTIMEZONE
TZID:America/New_York
BEGIN:DAYLIGHT
TZOFFSETFROM:-0500
TZOFFSETTO:-0400
TZNAME:EDT
DTSTART:20250309T070000
END:DAYLIGHT
BEGIN:STANDARD
TZOFFSETFROM:-0400
TZOFFSETTO:-0500
TZNAME:EST
DTSTART:20251102T060000
END:STANDARD
BEGIN:DAYLIGHT
TZOFFSETFROM:-0500
TZOFFSETTO:-0400
TZNAME:EDT
DTSTART:20260308T070000
END:DAYLIGHT
BEGIN:STANDARD
TZOFFSETFROM:-0400
TZOFFSETTO:-0500
TZNAME:EST
DTSTART:20261101T060000
END:STANDARD
BEGIN:DAYLIGHT
TZOFFSETFROM:-0500
TZOFFSETTO:-0400
TZNAME:EDT
DTSTART:20270314T070000
END:DAYLIGHT
BEGIN:STANDARD
TZOFFSETFROM:-0400
TZOFFSETTO:-0500
TZNAME:EST
DTSTART:20271107T060000
END:STANDARD
END:VTIMEZONE
BEGIN:VEVENT
DTSTART;TZID=America/New_York:20260712T080000
DTEND;TZID=America/New_York:20260712T120000
DTSTAMP:20260421T134816
CREATED:20260326T140953Z
LAST-MODIFIED:20260326T140953Z
UID:10002195-1783843200-1783857600@www.sacketsharborsportsmansclub.com
SUMMARY:Claycrushers Practice
DESCRIPTION:
URL:https://www.sacketsharborsportsmansclub.com/event/claycrushers-practice-2/2026-07-12/
CATEGORIES:Events
END:VEVENT
BEGIN:VEVENT
DTSTART;TZID=America/New_York:20260712T090000
DTEND;TZID=America/New_York:20260712T120000
DTSTAMP:20260421T134816
CREATED:20260325T230617Z
LAST-MODIFIED:20260325T230617Z
UID:10001852-1783846800-1783857600@www.sacketsharborsportsmansclub.com
SUMMARY:Trap Practice
DESCRIPTION:
URL:https://www.sacketsharborsportsmansclub.com/event/trap-practice/2026-07-12/
CATEGORIES:Events
END:VEVENT
BEGIN:VEVENT
DTSTART;TZID=America/New_York:20260713T190000
DTEND;TZID=America/New_York:20260713T203000
DTSTAMP:20260421T134816
CREATED:20250820T151007Z
LAST-MODIFIED:20250820T151357Z
UID:10001199-1783969200-1783974600@www.sacketsharborsportsmansclub.com
SUMMARY:Monthly Club Business Meeting.  All members are welcome.
DESCRIPTION:
URL:https://www.sacketsharborsportsmansclub.com/event/monthly-club-business-meeting-all-members-are-welcome-7/2026-07-13/
CATEGORIES:Events
END:VEVENT
BEGIN:VEVENT
DTSTART;TZID=America/New_York:20260715T033000
DTEND;TZID=America/New_York:20260715T210000
DTSTAMP:20260421T134816
CREATED:20260325T230857Z
LAST-MODIFIED:20260325T230857Z
UID:10002113-1784086200-1784149200@www.sacketsharborsportsmansclub.com
SUMMARY:Trap Practice
DESCRIPTION:
URL:https://www.sacketsharborsportsmansclub.com/event/trap-practice-3/2026-07-15/
CATEGORIES:Events
END:VEVENT
BEGIN:VEVENT
DTSTART;TZID=America/New_York:20260716T163000
DTEND;TZID=America/New_York:20260716T210000
DTSTAMP:20260421T134816
CREATED:20260413T162317Z
LAST-MODIFIED:20260413T162317Z
UID:10002263-1784219400-1784235600@www.sacketsharborsportsmansclub.com
SUMMARY:NTTL League Shoot Harrisville @ Sackets
DESCRIPTION:
URL:https://www.sacketsharborsportsmansclub.com/event/nttl-league-shoot-harrisville-sackets/
CATEGORIES:Events
END:VEVENT
BEGIN:VEVENT
DTSTART;TZID=America/New_York:20260719T080000
DTEND;TZID=America/New_York:20260719T120000
DTSTAMP:20260421T134816
CREATED:20260326T140953Z
LAST-MODIFIED:20260326T140953Z
UID:10002196-1784448000-1784462400@www.sacketsharborsportsmansclub.com
SUMMARY:Claycrushers Practice
DESCRIPTION:
URL:https://www.sacketsharborsportsmansclub.com/event/claycrushers-practice-2/2026-07-19/
CATEGORIES:Events
END:VEVENT
BEGIN:VEVENT
DTSTART;TZID=America/New_York:20260719T090000
DTEND;TZID=America/New_York:20260719T120000
DTSTAMP:20260421T134816
CREATED:20260325T230617Z
LAST-MODIFIED:20260325T230617Z
UID:10001853-1784451600-1784462400@www.sacketsharborsportsmansclub.com
SUMMARY:Trap Practice
DESCRIPTION:
URL:https://www.sacketsharborsportsmansclub.com/event/trap-practice/2026-07-19/
CATEGORIES:Events
END:VEVENT
BEGIN:VEVENT
DTSTART;TZID=America/New_York:20260722T033000
DTEND;TZID=America/New_York:20260722T210000
DTSTAMP:20260421T134816
CREATED:20260325T230857Z
LAST-MODIFIED:20260325T230857Z
UID:10002114-1784691000-1784754000@www.sacketsharborsportsmansclub.com
SUMMARY:Trap Practice
DESCRIPTION:
URL:https://www.sacketsharborsportsmansclub.com/event/trap-practice-3/2026-07-22/
CATEGORIES:Events
END:VEVENT
BEGIN:VEVENT
DTSTART;TZID=America/New_York:20260723T163000
DTEND;TZID=America/New_York:20260723T210000
DTSTAMP:20260421T134816
CREATED:20260413T162455Z
LAST-MODIFIED:20260413T162455Z
UID:10002264-1784824200-1784840400@www.sacketsharborsportsmansclub.com
SUMMARY:NTTL League Shoot Sackets @ Gouverneur
DESCRIPTION:
URL:https://www.sacketsharborsportsmansclub.com/event/nttl-league-shoot-sackets-gouverneur-2/
CATEGORIES:Events
END:VEVENT
BEGIN:VEVENT
DTSTART;TZID=America/New_York:20260726T080000
DTEND;TZID=America/New_York:20260726T120000
DTSTAMP:20260421T134816
CREATED:20260326T140953Z
LAST-MODIFIED:20260326T140953Z
UID:10002197-1785052800-1785067200@www.sacketsharborsportsmansclub.com
SUMMARY:Claycrushers Practice
DESCRIPTION:
URL:https://www.sacketsharborsportsmansclub.com/event/claycrushers-practice-2/2026-07-26/
CATEGORIES:Events
END:VEVENT
BEGIN:VEVENT
DTSTART;TZID=America/New_York:20260726T090000
DTEND;TZID=America/New_York:20260726T120000
DTSTAMP:20260421T134816
CREATED:20260325T230617Z
LAST-MODIFIED:20260325T230617Z
UID:10001854-1785056400-1785067200@www.sacketsharborsportsmansclub.com
SUMMARY:Trap Practice
DESCRIPTION:
URL:https://www.sacketsharborsportsmansclub.com/event/trap-practice/2026-07-26/
CATEGORIES:Events
END:VEVENT
BEGIN:VEVENT
DTSTART;TZID=America/New_York:20260729T033000
DTEND;TZID=America/New_York:20260729T210000
DTSTAMP:20260421T134816
CREATED:20260325T230857Z
LAST-MODIFIED:20260325T230857Z
UID:10002115-1785295800-1785358800@www.sacketsharborsportsmansclub.com
SUMMARY:Trap Practice
DESCRIPTION:
URL:https://www.sacketsharborsportsmansclub.com/event/trap-practice-3/2026-07-29/
CATEGORIES:Events
END:VEVENT
BEGIN:VEVENT
DTSTART;TZID=America/New_York:20260730T163000
DTEND;TZID=America/New_York:20260730T210000
DTSTAMP:20260421T134816
CREATED:20260413T162645Z
LAST-MODIFIED:20260413T170010Z
UID:10002265-1785429000-1785445200@www.sacketsharborsportsmansclub.com
SUMMARY:NTTL League Shoot Beaver River @ Sackets
DESCRIPTION:
URL:https://www.sacketsharborsportsmansclub.com/event/nttl-league-shoot-sackets-beaver-river/
CATEGORIES:Events
END:VEVENT
BEGIN:VEVENT
DTSTART;TZID=America/New_York:20260802T080000
DTEND;TZID=America/New_York:20260802T120000
DTSTAMP:20260421T134816
CREATED:20260326T140953Z
LAST-MODIFIED:20260326T140953Z
UID:10002198-1785657600-1785672000@www.sacketsharborsportsmansclub.com
SUMMARY:Claycrushers Practice
DESCRIPTION:
URL:https://www.sacketsharborsportsmansclub.com/event/claycrushers-practice-2/2026-08-02/
CATEGORIES:Events
END:VEVENT
BEGIN:VEVENT
DTSTART;TZID=America/New_York:20260802T090000
DTEND;TZID=America/New_York:20260802T120000
DTSTAMP:20260421T134816
CREATED:20260325T230617Z
LAST-MODIFIED:20260325T230617Z
UID:10001855-1785661200-1785672000@www.sacketsharborsportsmansclub.com
SUMMARY:Trap Practice
DESCRIPTION:
URL:https://www.sacketsharborsportsmansclub.com/event/trap-practice/2026-08-02/
CATEGORIES:Events
END:VEVENT
BEGIN:VEVENT
DTSTART;TZID=America/New_York:20260805T033000
DTEND;TZID=America/New_York:20260805T210000
DTSTAMP:20260421T134816
CREATED:20260325T230857Z
LAST-MODIFIED:20260325T230857Z
UID:10002116-1785900600-1785963600@www.sacketsharborsportsmansclub.com
SUMMARY:Trap Practice
DESCRIPTION:
URL:https://www.sacketsharborsportsmansclub.com/event/trap-practice-3/2026-08-05/
CATEGORIES:Events
END:VEVENT
BEGIN:VEVENT
DTSTART;TZID=America/New_York:20260806T163000
DTEND;TZID=America/New_York:20260806T210000
DTSTAMP:20260421T134816
CREATED:20260413T162903Z
LAST-MODIFIED:20260413T162903Z
UID:10002266-1786033800-1786050000@www.sacketsharborsportsmansclub.com
SUMMARY:NTTL League Shoot Sackets @ Sno-Fun
DESCRIPTION:
URL:https://www.sacketsharborsportsmansclub.com/event/nttl-league-shoot-sackets-sno-fun-2/
CATEGORIES:Events
END:VEVENT
BEGIN:VEVENT
DTSTART;TZID=America/New_York:20260809T080000
DTEND;TZID=America/New_York:20260809T120000
DTSTAMP:20260421T134816
CREATED:20260326T140953Z
LAST-MODIFIED:20260326T140953Z
UID:10002199-1786262400-1786276800@www.sacketsharborsportsmansclub.com
SUMMARY:Claycrushers Practice
DESCRIPTION:
URL:https://www.sacketsharborsportsmansclub.com/event/claycrushers-practice-2/2026-08-09/
CATEGORIES:Events
END:VEVENT
BEGIN:VEVENT
DTSTART;TZID=America/New_York:20260809T090000
DTEND;TZID=America/New_York:20260809T120000
DTSTAMP:20260421T134816
CREATED:20260325T230617Z
LAST-MODIFIED:20260325T230617Z
UID:10001856-1786266000-1786276800@www.sacketsharborsportsmansclub.com
SUMMARY:Trap Practice
DESCRIPTION:
URL:https://www.sacketsharborsportsmansclub.com/event/trap-practice/2026-08-09/
CATEGORIES:Events
END:VEVENT
BEGIN:VEVENT
DTSTART;TZID=America/New_York:20260810T190000
DTEND;TZID=America/New_York:20260810T203000
DTSTAMP:20260421T134816
CREATED:20250820T151007Z
LAST-MODIFIED:20250820T151357Z
UID:10001200-1786388400-1786393800@www.sacketsharborsportsmansclub.com
SUMMARY:Monthly Club Business Meeting.  All members are welcome.
DESCRIPTION:
URL:https://www.sacketsharborsportsmansclub.com/event/monthly-club-business-meeting-all-members-are-welcome-7/2026-08-10/
CATEGORIES:Events
END:VEVENT
BEGIN:VEVENT
DTSTART;TZID=America/New_York:20260812T033000
DTEND;TZID=America/New_York:20260812T210000
DTSTAMP:20260421T134816
CREATED:20260325T230857Z
LAST-MODIFIED:20260325T230857Z
UID:10002117-1786505400-1786568400@www.sacketsharborsportsmansclub.com
SUMMARY:Trap Practice
DESCRIPTION:
URL:https://www.sacketsharborsportsmansclub.com/event/trap-practice-3/2026-08-12/
CATEGORIES:Events
END:VEVENT
BEGIN:VEVENT
DTSTART;TZID=America/New_York:20260813T163000
DTEND;TZID=America/New_York:20260813T210000
DTSTAMP:20260421T134816
CREATED:20260413T163106Z
LAST-MODIFIED:20260413T163106Z
UID:10002267-1786638600-1786654800@www.sacketsharborsportsmansclub.com
SUMMARY:NTTL League Shoot Henderson @ Sackets
DESCRIPTION:
URL:https://www.sacketsharborsportsmansclub.com/event/nttl-league-shoot-henderson-sackets/
CATEGORIES:Events
END:VEVENT
BEGIN:VEVENT
DTSTART;TZID=America/New_York:20260816T080000
DTEND;TZID=America/New_York:20260816T120000
DTSTAMP:20260421T134816
CREATED:20260326T140953Z
LAST-MODIFIED:20260326T140953Z
UID:10002200-1786867200-1786881600@www.sacketsharborsportsmansclub.com
SUMMARY:Claycrushers Practice
DESCRIPTION:
URL:https://www.sacketsharborsportsmansclub.com/event/claycrushers-practice-2/2026-08-16/
CATEGORIES:Events
END:VEVENT
BEGIN:VEVENT
DTSTART;TZID=America/New_York:20260816T090000
DTEND;TZID=America/New_York:20260816T120000
DTSTAMP:20260421T134816
CREATED:20260325T230617Z
LAST-MODIFIED:20260325T230617Z
UID:10001857-1786870800-1786881600@www.sacketsharborsportsmansclub.com
SUMMARY:Trap Practice
DESCRIPTION:
URL:https://www.sacketsharborsportsmansclub.com/event/trap-practice/2026-08-16/
CATEGORIES:Events
END:VEVENT
BEGIN:VEVENT
DTSTART;TZID=America/New_York:20260819T033000
DTEND;TZID=America/New_York:20260819T210000
DTSTAMP:20260421T134816
CREATED:20260325T230857Z
LAST-MODIFIED:20260325T230857Z
UID:10002118-1787110200-1787173200@www.sacketsharborsportsmansclub.com
SUMMARY:Trap Practice
DESCRIPTION:
URL:https://www.sacketsharborsportsmansclub.com/event/trap-practice-3/2026-08-19/
CATEGORIES:Events
END:VEVENT
BEGIN:VEVENT
DTSTART;TZID=America/New_York:20260820T163000
DTEND;TZID=America/New_York:20260820T210000
DTSTAMP:20260421T134816
CREATED:20260413T163232Z
LAST-MODIFIED:20260413T163232Z
UID:10002268-1787243400-1787259600@www.sacketsharborsportsmansclub.com
SUMMARY:NTTL League Shoot Sackets @ Carthage
DESCRIPTION:
URL:https://www.sacketsharborsportsmansclub.com/event/nttl-league-shoot-sackets-carthage/
CATEGORIES:Events
END:VEVENT
BEGIN:VEVENT
DTSTART;TZID=America/New_York:20260823T080000
DTEND;TZID=America/New_York:20260823T120000
DTSTAMP:20260421T134816
CREATED:20260326T140953Z
LAST-MODIFIED:20260326T140953Z
UID:10002201-1787472000-1787486400@www.sacketsharborsportsmansclub.com
SUMMARY:Claycrushers Practice
DESCRIPTION:
URL:https://www.sacketsharborsportsmansclub.com/event/claycrushers-practice-2/2026-08-23/
CATEGORIES:Events
END:VEVENT
BEGIN:VEVENT
DTSTART;TZID=America/New_York:20260823T090000
DTEND;TZID=America/New_York:20260823T120000
DTSTAMP:20260421T134816
CREATED:20260325T230617Z
LAST-MODIFIED:20260325T230617Z
UID:10001858-1787475600-1787486400@www.sacketsharborsportsmansclub.com
SUMMARY:Trap Practice
DESCRIPTION:
URL:https://www.sacketsharborsportsmansclub.com/event/trap-practice/2026-08-23/
CATEGORIES:Events
END:VEVENT
BEGIN:VEVENT
DTSTART;TZID=America/New_York:20260826T033000
DTEND;TZID=America/New_York:20260826T210000
DTSTAMP:20260421T134816
CREATED:20260325T230857Z
LAST-MODIFIED:20260325T230857Z
UID:10002119-1787715000-1787778000@www.sacketsharborsportsmansclub.com
SUMMARY:Trap Practice
DESCRIPTION:
URL:https://www.sacketsharborsportsmansclub.com/event/trap-practice-3/2026-08-26/
CATEGORIES:Events
END:VEVENT
BEGIN:VEVENT
DTSTART;TZID=America/New_York:20260827T163000
DTEND;TZID=America/New_York:20260827T210000
DTSTAMP:20260421T134816
CREATED:20260413T163720Z
LAST-MODIFIED:20260413T164017Z
UID:10002269-1787848200-1787864400@www.sacketsharborsportsmansclub.com
SUMMARY:NTTL League Shoot Sackets @ Lyme
DESCRIPTION:
URL:https://www.sacketsharborsportsmansclub.com/event/nttl-league-shoot-sackets-adams-center-2/
CATEGORIES:Events
END:VEVENT
END:VCALENDAR