BEGIN:VCALENDAR
VERSION:2.0
PRODID:-//Sackets Harbor Sportsman Club - ECPv6.15.17.1//NONSGML v1.0//EN
CALSCALE:GREGORIAN
METHOD:PUBLISH
X-ORIGINAL-URL:https://www.sacketsharborsportsmansclub.com
X-WR-CALDESC:Events for Sackets Harbor Sportsman Club
REFRESH-INTERVAL;VALUE=DURATION:PT1H
X-Robots-Tag:noindex
X-PUBLISHED-TTL:PT1H
BEGIN:VTIMEZONE
TZID:America/New_York
BEGIN:DAYLIGHT
TZOFFSETFROM:-0500
TZOFFSETTO:-0400
TZNAME:EDT
DTSTART:20290311T070000
END:DAYLIGHT
BEGIN:STANDARD
TZOFFSETFROM:-0400
TZOFFSETTO:-0500
TZNAME:EST
DTSTART:20291104T060000
END:STANDARD
BEGIN:DAYLIGHT
TZOFFSETFROM:-0500
TZOFFSETTO:-0400
TZNAME:EDT
DTSTART:20300310T070000
END:DAYLIGHT
BEGIN:STANDARD
TZOFFSETFROM:-0400
TZOFFSETTO:-0500
TZNAME:EST
DTSTART:20301103T060000
END:STANDARD
BEGIN:DAYLIGHT
TZOFFSETFROM:-0500
TZOFFSETTO:-0400
TZNAME:EDT
DTSTART:20310309T070000
END:DAYLIGHT
BEGIN:STANDARD
TZOFFSETFROM:-0400
TZOFFSETTO:-0500
TZNAME:EST
DTSTART:20311102T060000
END:STANDARD
BEGIN:DAYLIGHT
TZOFFSETFROM:-0500
TZOFFSETTO:-0400
TZNAME:EDT
DTSTART:20320314T070000
END:DAYLIGHT
BEGIN:STANDARD
TZOFFSETFROM:-0400
TZOFFSETTO:-0500
TZNAME:EST
DTSTART:20321107T060000
END:STANDARD
END:VTIMEZONE
BEGIN:VEVENT
DTSTART;TZID=America/New_York:20301124T090000
DTEND;TZID=America/New_York:20301124T120000
DTSTAMP:20260421T191635
CREATED:20260325T230617Z
LAST-MODIFIED:20260325T230617Z
UID:10002080-1921741200-1921752000@www.sacketsharborsportsmansclub.com
SUMMARY:Trap Practice
DESCRIPTION:
URL:https://www.sacketsharborsportsmansclub.com/event/trap-practice/2030-11-24/
CATEGORIES:Events
END:VEVENT
BEGIN:VEVENT
DTSTART;TZID=America/New_York:20301201T090000
DTEND;TZID=America/New_York:20301201T120000
DTSTAMP:20260421T191635
CREATED:20260325T230617Z
LAST-MODIFIED:20260325T230617Z
UID:10002081-1922346000-1922356800@www.sacketsharborsportsmansclub.com
SUMMARY:Trap Practice
DESCRIPTION:
URL:https://www.sacketsharborsportsmansclub.com/event/trap-practice/2030-12-01/
CATEGORIES:Events
END:VEVENT
BEGIN:VEVENT
DTSTART;TZID=America/New_York:20301208T090000
DTEND;TZID=America/New_York:20301208T120000
DTSTAMP:20260421T191635
CREATED:20260325T230617Z
LAST-MODIFIED:20260325T230617Z
UID:10002082-1922950800-1922961600@www.sacketsharborsportsmansclub.com
SUMMARY:Trap Practice
DESCRIPTION:
URL:https://www.sacketsharborsportsmansclub.com/event/trap-practice/2030-12-08/
CATEGORIES:Events
END:VEVENT
BEGIN:VEVENT
DTSTART;TZID=America/New_York:20301215T090000
DTEND;TZID=America/New_York:20301215T120000
DTSTAMP:20260421T191635
CREATED:20260325T230617Z
LAST-MODIFIED:20260325T230617Z
UID:10002083-1923555600-1923566400@www.sacketsharborsportsmansclub.com
SUMMARY:Trap Practice
DESCRIPTION:
URL:https://www.sacketsharborsportsmansclub.com/event/trap-practice/2030-12-15/
CATEGORIES:Events
END:VEVENT
BEGIN:VEVENT
DTSTART;TZID=America/New_York:20301222T090000
DTEND;TZID=America/New_York:20301222T120000
DTSTAMP:20260421T191635
CREATED:20260325T230617Z
LAST-MODIFIED:20260325T230617Z
UID:10002084-1924160400-1924171200@www.sacketsharborsportsmansclub.com
SUMMARY:Trap Practice
DESCRIPTION:
URL:https://www.sacketsharborsportsmansclub.com/event/trap-practice/2030-12-22/
CATEGORIES:Events
END:VEVENT
BEGIN:VEVENT
DTSTART;TZID=America/New_York:20301229T090000
DTEND;TZID=America/New_York:20301229T120000
DTSTAMP:20260421T191635
CREATED:20260325T230617Z
LAST-MODIFIED:20260325T230617Z
UID:10002085-1924765200-1924776000@www.sacketsharborsportsmansclub.com
SUMMARY:Trap Practice
DESCRIPTION:
URL:https://www.sacketsharborsportsmansclub.com/event/trap-practice/2030-12-29/
CATEGORIES:Events
END:VEVENT
BEGIN:VEVENT
DTSTART;TZID=America/New_York:20310105T090000
DTEND;TZID=America/New_York:20310105T120000
DTSTAMP:20260421T191635
CREATED:20260325T230617Z
LAST-MODIFIED:20260325T230617Z
UID:10002086-1925370000-1925380800@www.sacketsharborsportsmansclub.com
SUMMARY:Trap Practice
DESCRIPTION:
URL:https://www.sacketsharborsportsmansclub.com/event/trap-practice/2031-01-05/
CATEGORIES:Events
END:VEVENT
BEGIN:VEVENT
DTSTART;TZID=America/New_York:20310112T090000
DTEND;TZID=America/New_York:20310112T120000
DTSTAMP:20260421T191635
CREATED:20260325T230617Z
LAST-MODIFIED:20260325T230617Z
UID:10002087-1925974800-1925985600@www.sacketsharborsportsmansclub.com
SUMMARY:Trap Practice
DESCRIPTION:
URL:https://www.sacketsharborsportsmansclub.com/event/trap-practice/2031-01-12/
CATEGORIES:Events
END:VEVENT
BEGIN:VEVENT
DTSTART;TZID=America/New_York:20310119T090000
DTEND;TZID=America/New_York:20310119T120000
DTSTAMP:20260421T191635
CREATED:20260325T230617Z
LAST-MODIFIED:20260325T230617Z
UID:10002088-1926579600-1926590400@www.sacketsharborsportsmansclub.com
SUMMARY:Trap Practice
DESCRIPTION:
URL:https://www.sacketsharborsportsmansclub.com/event/trap-practice/2031-01-19/
CATEGORIES:Events
END:VEVENT
BEGIN:VEVENT
DTSTART;TZID=America/New_York:20310126T090000
DTEND;TZID=America/New_York:20310126T120000
DTSTAMP:20260421T191635
CREATED:20260325T230617Z
LAST-MODIFIED:20260325T230617Z
UID:10002089-1927184400-1927195200@www.sacketsharborsportsmansclub.com
SUMMARY:Trap Practice
DESCRIPTION:
URL:https://www.sacketsharborsportsmansclub.com/event/trap-practice/2031-01-26/
CATEGORIES:Events
END:VEVENT
BEGIN:VEVENT
DTSTART;TZID=America/New_York:20310202T090000
DTEND;TZID=America/New_York:20310202T120000
DTSTAMP:20260421T191635
CREATED:20260325T230617Z
LAST-MODIFIED:20260325T230617Z
UID:10002090-1927789200-1927800000@www.sacketsharborsportsmansclub.com
SUMMARY:Trap Practice
DESCRIPTION:
URL:https://www.sacketsharborsportsmansclub.com/event/trap-practice/2031-02-02/
CATEGORIES:Events
END:VEVENT
BEGIN:VEVENT
DTSTART;TZID=America/New_York:20310209T090000
DTEND;TZID=America/New_York:20310209T120000
DTSTAMP:20260421T191635
CREATED:20260325T230617Z
LAST-MODIFIED:20260325T230617Z
UID:10002091-1928394000-1928404800@www.sacketsharborsportsmansclub.com
SUMMARY:Trap Practice
DESCRIPTION:
URL:https://www.sacketsharborsportsmansclub.com/event/trap-practice/2031-02-09/
CATEGORIES:Events
END:VEVENT
BEGIN:VEVENT
DTSTART;TZID=America/New_York:20310216T090000
DTEND;TZID=America/New_York:20310216T120000
DTSTAMP:20260421T191635
CREATED:20260325T230617Z
LAST-MODIFIED:20260325T230617Z
UID:10002092-1928998800-1929009600@www.sacketsharborsportsmansclub.com
SUMMARY:Trap Practice
DESCRIPTION:
URL:https://www.sacketsharborsportsmansclub.com/event/trap-practice/2031-02-16/
CATEGORIES:Events
END:VEVENT
BEGIN:VEVENT
DTSTART;TZID=America/New_York:20310223T090000
DTEND;TZID=America/New_York:20310223T120000
DTSTAMP:20260421T191635
CREATED:20260325T230617Z
LAST-MODIFIED:20260325T230617Z
UID:10002093-1929603600-1929614400@www.sacketsharborsportsmansclub.com
SUMMARY:Trap Practice
DESCRIPTION:
URL:https://www.sacketsharborsportsmansclub.com/event/trap-practice/2031-02-23/
CATEGORIES:Events
END:VEVENT
BEGIN:VEVENT
DTSTART;TZID=America/New_York:20310302T090000
DTEND;TZID=America/New_York:20310302T120000
DTSTAMP:20260421T191635
CREATED:20260325T230617Z
LAST-MODIFIED:20260325T230617Z
UID:10002094-1930208400-1930219200@www.sacketsharborsportsmansclub.com
SUMMARY:Trap Practice
DESCRIPTION:
URL:https://www.sacketsharborsportsmansclub.com/event/trap-practice/2031-03-02/
CATEGORIES:Events
END:VEVENT
BEGIN:VEVENT
DTSTART;TZID=America/New_York:20310309T090000
DTEND;TZID=America/New_York:20310309T120000
DTSTAMP:20260421T191635
CREATED:20260325T230617Z
LAST-MODIFIED:20260325T230617Z
UID:10002095-1930813200-1930824000@www.sacketsharborsportsmansclub.com
SUMMARY:Trap Practice
DESCRIPTION:
URL:https://www.sacketsharborsportsmansclub.com/event/trap-practice/2031-03-09/
CATEGORIES:Events
END:VEVENT
BEGIN:VEVENT
DTSTART;TZID=America/New_York:20310316T090000
DTEND;TZID=America/New_York:20310316T120000
DTSTAMP:20260421T191635
CREATED:20260325T230617Z
LAST-MODIFIED:20260325T230617Z
UID:10002096-1931418000-1931428800@www.sacketsharborsportsmansclub.com
SUMMARY:Trap Practice
DESCRIPTION:
URL:https://www.sacketsharborsportsmansclub.com/event/trap-practice/2031-03-16/
CATEGORIES:Events
END:VEVENT
BEGIN:VEVENT
DTSTART;TZID=America/New_York:20310323T090000
DTEND;TZID=America/New_York:20310323T120000
DTSTAMP:20260421T191635
CREATED:20260325T230617Z
LAST-MODIFIED:20260325T230617Z
UID:10002097-1932022800-1932033600@www.sacketsharborsportsmansclub.com
SUMMARY:Trap Practice
DESCRIPTION:
URL:https://www.sacketsharborsportsmansclub.com/event/trap-practice/2031-03-23/
CATEGORIES:Events
END:VEVENT
END:VCALENDAR