BEGIN:VCALENDAR
VERSION:2.0
PRODID:-//Sackets Harbor Sportsman Club - ECPv6.15.17.1//NONSGML v1.0//EN
CALSCALE:GREGORIAN
METHOD:PUBLISH
X-ORIGINAL-URL:https://www.sacketsharborsportsmansclub.com
X-WR-CALDESC:Events for Sackets Harbor Sportsman Club
REFRESH-INTERVAL;VALUE=DURATION:PT1H
X-Robots-Tag:noindex
X-PUBLISHED-TTL:PT1H
BEGIN:VTIMEZONE
TZID:America/New_York
BEGIN:DAYLIGHT
TZOFFSETFROM:-0500
TZOFFSETTO:-0400
TZNAME:EDT
DTSTART:20250309T070000
END:DAYLIGHT
BEGIN:STANDARD
TZOFFSETFROM:-0400
TZOFFSETTO:-0500
TZNAME:EST
DTSTART:20251102T060000
END:STANDARD
BEGIN:DAYLIGHT
TZOFFSETFROM:-0500
TZOFFSETTO:-0400
TZNAME:EDT
DTSTART:20260308T070000
END:DAYLIGHT
BEGIN:STANDARD
TZOFFSETFROM:-0400
TZOFFSETTO:-0500
TZNAME:EST
DTSTART:20261101T060000
END:STANDARD
BEGIN:DAYLIGHT
TZOFFSETFROM:-0500
TZOFFSETTO:-0400
TZNAME:EDT
DTSTART:20270314T070000
END:DAYLIGHT
BEGIN:STANDARD
TZOFFSETFROM:-0400
TZOFFSETTO:-0500
TZNAME:EST
DTSTART:20271107T060000
END:STANDARD
END:VTIMEZONE
BEGIN:VEVENT
DTSTART;TZID=America/New_York:20260510T080000
DTEND;TZID=America/New_York:20260510T120000
DTSTAMP:20260421T104846
CREATED:20260326T140953Z
LAST-MODIFIED:20260326T140953Z
UID:10002186-1778400000-1778414400@www.sacketsharborsportsmansclub.com
SUMMARY:Claycrushers Practice
DESCRIPTION:
URL:https://www.sacketsharborsportsmansclub.com/event/claycrushers-practice-2/2026-05-10/
CATEGORIES:Events
END:VEVENT
BEGIN:VEVENT
DTSTART;TZID=America/New_York:20260510T090000
DTEND;TZID=America/New_York:20260510T120000
DTSTAMP:20260421T104846
CREATED:20260325T230617Z
LAST-MODIFIED:20260325T230617Z
UID:10001843-1778403600-1778414400@www.sacketsharborsportsmansclub.com
SUMMARY:Trap Practice
DESCRIPTION:
URL:https://www.sacketsharborsportsmansclub.com/event/trap-practice/2026-05-10/
CATEGORIES:Events
END:VEVENT
BEGIN:VEVENT
DTSTART;TZID=America/New_York:20260511T190000
DTEND;TZID=America/New_York:20260511T203000
DTSTAMP:20260421T104846
CREATED:20250820T151007Z
LAST-MODIFIED:20250820T151357Z
UID:10001197-1778526000-1778531400@www.sacketsharborsportsmansclub.com
SUMMARY:Monthly Club Business Meeting.  All members are welcome.
DESCRIPTION:
URL:https://www.sacketsharborsportsmansclub.com/event/monthly-club-business-meeting-all-members-are-welcome-7/2026-05-11/
CATEGORIES:Events
END:VEVENT
BEGIN:VEVENT
DTSTART;TZID=America/New_York:20260513T033000
DTEND;TZID=America/New_York:20260513T210000
DTSTAMP:20260421T104846
CREATED:20260325T230857Z
LAST-MODIFIED:20260325T230857Z
UID:10002104-1778643000-1778706000@www.sacketsharborsportsmansclub.com
SUMMARY:Trap Practice
DESCRIPTION:
URL:https://www.sacketsharborsportsmansclub.com/event/trap-practice-3/2026-05-13/
CATEGORIES:Events
END:VEVENT
BEGIN:VEVENT
DTSTART;TZID=America/New_York:20260514T163000
DTEND;TZID=America/New_York:20260514T210000
DTSTAMP:20260421T104846
CREATED:20260413T155929Z
LAST-MODIFIED:20260413T170353Z
UID:10002254-1778776200-1778792400@www.sacketsharborsportsmansclub.com
SUMMARY:NTTL League Shoot Sackets @ Beaver River
DESCRIPTION:
URL:https://www.sacketsharborsportsmansclub.com/event/nttl-league-shoot-beaver-river-sackets/
CATEGORIES:Events
END:VEVENT
BEGIN:VEVENT
DTSTART;TZID=America/New_York:20260517T080000
DTEND;TZID=America/New_York:20260517T120000
DTSTAMP:20260421T104846
CREATED:20260326T140953Z
LAST-MODIFIED:20260326T140953Z
UID:10002187-1779004800-1779019200@www.sacketsharborsportsmansclub.com
SUMMARY:Claycrushers Practice
DESCRIPTION:
URL:https://www.sacketsharborsportsmansclub.com/event/claycrushers-practice-2/2026-05-17/
CATEGORIES:Events
END:VEVENT
BEGIN:VEVENT
DTSTART;TZID=America/New_York:20260517T090000
DTEND;TZID=America/New_York:20260517T120000
DTSTAMP:20260421T104846
CREATED:20260325T230617Z
LAST-MODIFIED:20260325T230617Z
UID:10001844-1779008400-1779019200@www.sacketsharborsportsmansclub.com
SUMMARY:Trap Practice
DESCRIPTION:
URL:https://www.sacketsharborsportsmansclub.com/event/trap-practice/2026-05-17/
CATEGORIES:Events
END:VEVENT
BEGIN:VEVENT
DTSTART;TZID=America/New_York:20260520T033000
DTEND;TZID=America/New_York:20260520T210000
DTSTAMP:20260421T104846
CREATED:20260325T230857Z
LAST-MODIFIED:20260325T230857Z
UID:10002105-1779247800-1779310800@www.sacketsharborsportsmansclub.com
SUMMARY:Trap Practice
DESCRIPTION:
URL:https://www.sacketsharborsportsmansclub.com/event/trap-practice-3/2026-05-20/
CATEGORIES:Events
END:VEVENT
BEGIN:VEVENT
DTSTART;TZID=America/New_York:20260521T163000
DTEND;TZID=America/New_York:20260521T210000
DTSTAMP:20260421T104846
CREATED:20260413T160107Z
LAST-MODIFIED:20260413T160651Z
UID:10002255-1779381000-1779397200@www.sacketsharborsportsmansclub.com
SUMMARY:NTTL League Shoot Sno-Fun @ Sackets
DESCRIPTION:
URL:https://www.sacketsharborsportsmansclub.com/event/nttl-league-shoot-sackets-sno-fun/
CATEGORIES:Events
END:VEVENT
BEGIN:VEVENT
DTSTART;TZID=America/New_York:20260524T080000
DTEND;TZID=America/New_York:20260524T120000
DTSTAMP:20260421T104846
CREATED:20260326T140953Z
LAST-MODIFIED:20260326T140953Z
UID:10002188-1779609600-1779624000@www.sacketsharborsportsmansclub.com
SUMMARY:Claycrushers Practice
DESCRIPTION:
URL:https://www.sacketsharborsportsmansclub.com/event/claycrushers-practice-2/2026-05-24/
CATEGORIES:Events
END:VEVENT
BEGIN:VEVENT
DTSTART;TZID=America/New_York:20260524T090000
DTEND;TZID=America/New_York:20260524T120000
DTSTAMP:20260421T104846
CREATED:20260325T230617Z
LAST-MODIFIED:20260325T230617Z
UID:10001845-1779613200-1779624000@www.sacketsharborsportsmansclub.com
SUMMARY:Trap Practice
DESCRIPTION:
URL:https://www.sacketsharborsportsmansclub.com/event/trap-practice/2026-05-24/
CATEGORIES:Events
END:VEVENT
BEGIN:VEVENT
DTSTART;TZID=America/New_York:20260527T033000
DTEND;TZID=America/New_York:20260527T210000
DTSTAMP:20260421T104846
CREATED:20260325T230857Z
LAST-MODIFIED:20260325T230857Z
UID:10002106-1779852600-1779915600@www.sacketsharborsportsmansclub.com
SUMMARY:Trap Practice
DESCRIPTION:
URL:https://www.sacketsharborsportsmansclub.com/event/trap-practice-3/2026-05-27/
CATEGORIES:Events
END:VEVENT
BEGIN:VEVENT
DTSTART;TZID=America/New_York:20260528T163000
DTEND;TZID=America/New_York:20260528T210000
DTSTAMP:20260421T104846
CREATED:20260413T160529Z
LAST-MODIFIED:20260413T160529Z
UID:10002256-1779985800-1780002000@www.sacketsharborsportsmansclub.com
SUMMARY:NTTL League Shoot Sackets @ Henderson
DESCRIPTION:
URL:https://www.sacketsharborsportsmansclub.com/event/nttl-league-shoot-sackets-henderson/
CATEGORIES:Events
END:VEVENT
BEGIN:VEVENT
DTSTART;TZID=America/New_York:20260530T090000
DTEND;TZID=America/New_York:20260530T180000
DTSTAMP:20260421T104846
CREATED:20260420T173957Z
LAST-MODIFIED:20260420T173957Z
UID:10002274-1780131600-1780164000@www.sacketsharborsportsmansclub.com
SUMMARY:Pistol Permit Class
DESCRIPTION:
URL:https://www.sacketsharborsportsmansclub.com/event/pistol-permit-class/2026-05-30/
CATEGORIES:Events
END:VEVENT
BEGIN:VEVENT
DTSTART;TZID=America/New_York:20260531T010000
DTEND;TZID=America/New_York:20260531T150000
DTSTAMP:20260421T104846
CREATED:20260420T174347Z
LAST-MODIFIED:20260420T174347Z
UID:10002278-1780189200-1780239600@www.sacketsharborsportsmansclub.com
SUMMARY:Ranges 3 & 4 Closed
DESCRIPTION:
URL:https://www.sacketsharborsportsmansclub.com/event/ranges-3-4-closed/2026-05-31/
CATEGORIES:Events
END:VEVENT
BEGIN:VEVENT
DTSTART;TZID=America/New_York:20260531T080000
DTEND;TZID=America/New_York:20260531T120000
DTSTAMP:20260421T104846
CREATED:20260326T140953Z
LAST-MODIFIED:20260326T140953Z
UID:10002189-1780214400-1780228800@www.sacketsharborsportsmansclub.com
SUMMARY:Claycrushers Practice
DESCRIPTION:
URL:https://www.sacketsharborsportsmansclub.com/event/claycrushers-practice-2/2026-05-31/
CATEGORIES:Events
END:VEVENT
BEGIN:VEVENT
DTSTART;TZID=America/New_York:20260531T090000
DTEND;TZID=America/New_York:20260531T120000
DTSTAMP:20260421T104846
CREATED:20260325T230617Z
LAST-MODIFIED:20260325T230617Z
UID:10001846-1780218000-1780228800@www.sacketsharborsportsmansclub.com
SUMMARY:Trap Practice
DESCRIPTION:
URL:https://www.sacketsharborsportsmansclub.com/event/trap-practice/2026-05-31/
CATEGORIES:Events
END:VEVENT
BEGIN:VEVENT
DTSTART;TZID=America/New_York:20260531T090000
DTEND;TZID=America/New_York:20260531T180000
DTSTAMP:20260421T104846
CREATED:20260420T173957Z
LAST-MODIFIED:20260420T173957Z
UID:10002275-1780218000-1780250400@www.sacketsharborsportsmansclub.com
SUMMARY:Pistol Permit Class
DESCRIPTION:
URL:https://www.sacketsharborsportsmansclub.com/event/pistol-permit-class/2026-05-31/
CATEGORIES:Events
END:VEVENT
BEGIN:VEVENT
DTSTART;TZID=America/New_York:20260603T033000
DTEND;TZID=America/New_York:20260603T210000
DTSTAMP:20260421T104846
CREATED:20260325T230857Z
LAST-MODIFIED:20260325T230857Z
UID:10002107-1780457400-1780520400@www.sacketsharborsportsmansclub.com
SUMMARY:Trap Practice
DESCRIPTION:
URL:https://www.sacketsharborsportsmansclub.com/event/trap-practice-3/2026-06-03/
CATEGORIES:Events
END:VEVENT
BEGIN:VEVENT
DTSTART;TZID=America/New_York:20260604T163000
DTEND;TZID=America/New_York:20260604T210000
DTSTAMP:20260421T104846
CREATED:20260413T160905Z
LAST-MODIFIED:20260413T160905Z
UID:10002257-1780590600-1780606800@www.sacketsharborsportsmansclub.com
SUMMARY:NTTL League Shoot Carthage @ Sackets
DESCRIPTION:
URL:https://www.sacketsharborsportsmansclub.com/event/nttl-league-shoot-carthage-sackets/
CATEGORIES:Events
END:VEVENT
BEGIN:VEVENT
DTSTART;TZID=America/New_York:20260607T080000
DTEND;TZID=America/New_York:20260607T120000
DTSTAMP:20260421T104846
CREATED:20260326T140953Z
LAST-MODIFIED:20260326T140953Z
UID:10002190-1780819200-1780833600@www.sacketsharborsportsmansclub.com
SUMMARY:Claycrushers Practice
DESCRIPTION:
URL:https://www.sacketsharborsportsmansclub.com/event/claycrushers-practice-2/2026-06-07/
CATEGORIES:Events
END:VEVENT
BEGIN:VEVENT
DTSTART;TZID=America/New_York:20260607T090000
DTEND;TZID=America/New_York:20260607T120000
DTSTAMP:20260421T104846
CREATED:20260325T230617Z
LAST-MODIFIED:20260325T230617Z
UID:10001847-1780822800-1780833600@www.sacketsharborsportsmansclub.com
SUMMARY:Trap Practice
DESCRIPTION:
URL:https://www.sacketsharborsportsmansclub.com/event/trap-practice/2026-06-07/
CATEGORIES:Events
END:VEVENT
BEGIN:VEVENT
DTSTART;TZID=America/New_York:20260608T190000
DTEND;TZID=America/New_York:20260608T203000
DTSTAMP:20260421T104846
CREATED:20250820T151007Z
LAST-MODIFIED:20250820T151357Z
UID:10001198-1780945200-1780950600@www.sacketsharborsportsmansclub.com
SUMMARY:Monthly Club Business Meeting.  All members are welcome.
DESCRIPTION:
URL:https://www.sacketsharborsportsmansclub.com/event/monthly-club-business-meeting-all-members-are-welcome-7/2026-06-08/
CATEGORIES:Events
END:VEVENT
BEGIN:VEVENT
DTSTART;TZID=America/New_York:20260610T033000
DTEND;TZID=America/New_York:20260610T210000
DTSTAMP:20260421T104846
CREATED:20260325T230857Z
LAST-MODIFIED:20260325T230857Z
UID:10002108-1781062200-1781125200@www.sacketsharborsportsmansclub.com
SUMMARY:Trap Practice
DESCRIPTION:
URL:https://www.sacketsharborsportsmansclub.com/event/trap-practice-3/2026-06-10/
CATEGORIES:Events
END:VEVENT
BEGIN:VEVENT
DTSTART;TZID=America/New_York:20260611T163000
DTEND;TZID=America/New_York:20260611T210000
DTSTAMP:20260421T104846
CREATED:20260413T161029Z
LAST-MODIFIED:20260413T161029Z
UID:10002258-1781195400-1781211600@www.sacketsharborsportsmansclub.com
SUMMARY:NTTL League Shoot Lyme @ Sackets
DESCRIPTION:
URL:https://www.sacketsharborsportsmansclub.com/event/nttl-league-shoot-lyme-sackets/
CATEGORIES:Events
END:VEVENT
BEGIN:VEVENT
DTSTART;TZID=America/New_York:20260613T090000
DTEND;TZID=America/New_York:20260613T180000
DTSTAMP:20260421T104846
CREATED:20260420T174134Z
LAST-MODIFIED:20260420T174134Z
UID:10002276-1781341200-1781373600@www.sacketsharborsportsmansclub.com
SUMMARY:Pistol Permit Class
DESCRIPTION:
URL:https://www.sacketsharborsportsmansclub.com/event/pistol-permit-class-2/2026-06-13/
CATEGORIES:Events
END:VEVENT
BEGIN:VEVENT
DTSTART;TZID=America/New_York:20260614T010000
DTEND;TZID=America/New_York:20260614T150000
DTSTAMP:20260421T104846
CREATED:20260420T174347Z
LAST-MODIFIED:20260420T174347Z
UID:10002279-1781398800-1781449200@www.sacketsharborsportsmansclub.com
SUMMARY:Ranges 3 & 4 Closed
DESCRIPTION:
URL:https://www.sacketsharborsportsmansclub.com/event/ranges-3-4-closed/2026-06-14/
CATEGORIES:Events
END:VEVENT
BEGIN:VEVENT
DTSTART;TZID=America/New_York:20260614T080000
DTEND;TZID=America/New_York:20260614T120000
DTSTAMP:20260421T104846
CREATED:20260326T140953Z
LAST-MODIFIED:20260326T140953Z
UID:10002191-1781424000-1781438400@www.sacketsharborsportsmansclub.com
SUMMARY:Claycrushers Practice
DESCRIPTION:
URL:https://www.sacketsharborsportsmansclub.com/event/claycrushers-practice-2/2026-06-14/
CATEGORIES:Events
END:VEVENT
BEGIN:VEVENT
DTSTART;TZID=America/New_York:20260614T090000
DTEND;TZID=America/New_York:20260614T120000
DTSTAMP:20260421T104846
CREATED:20260325T230617Z
LAST-MODIFIED:20260325T230617Z
UID:10001848-1781427600-1781438400@www.sacketsharborsportsmansclub.com
SUMMARY:Trap Practice
DESCRIPTION:
URL:https://www.sacketsharborsportsmansclub.com/event/trap-practice/2026-06-14/
CATEGORIES:Events
END:VEVENT
BEGIN:VEVENT
DTSTART;TZID=America/New_York:20260614T090000
DTEND;TZID=America/New_York:20260614T180000
DTSTAMP:20260421T104846
CREATED:20260420T174134Z
LAST-MODIFIED:20260420T174134Z
UID:10002277-1781427600-1781460000@www.sacketsharborsportsmansclub.com
SUMMARY:Pistol Permit Class
DESCRIPTION:
URL:https://www.sacketsharborsportsmansclub.com/event/pistol-permit-class-2/2026-06-14/
CATEGORIES:Events
END:VEVENT
END:VCALENDAR