BEGIN:VCALENDAR
VERSION:2.0
PRODID:-//Sackets Harbor Sportsman Club - ECPv6.15.17.1//NONSGML v1.0//EN
CALSCALE:GREGORIAN
METHOD:PUBLISH
X-WR-CALNAME:Sackets Harbor Sportsman Club
X-ORIGINAL-URL:https://www.sacketsharborsportsmansclub.com
X-WR-CALDESC:Events for Sackets Harbor Sportsman Club
REFRESH-INTERVAL;VALUE=DURATION:PT1H
X-Robots-Tag:noindex
X-PUBLISHED-TTL:PT1H
BEGIN:VTIMEZONE
TZID:America/New_York
BEGIN:DAYLIGHT
TZOFFSETFROM:-0500
TZOFFSETTO:-0400
TZNAME:EDT
DTSTART:20290311T070000
END:DAYLIGHT
BEGIN:STANDARD
TZOFFSETFROM:-0400
TZOFFSETTO:-0500
TZNAME:EST
DTSTART:20291104T060000
END:STANDARD
BEGIN:DAYLIGHT
TZOFFSETFROM:-0500
TZOFFSETTO:-0400
TZNAME:EDT
DTSTART:20300310T070000
END:DAYLIGHT
BEGIN:STANDARD
TZOFFSETFROM:-0400
TZOFFSETTO:-0500
TZNAME:EST
DTSTART:20301103T060000
END:STANDARD
BEGIN:DAYLIGHT
TZOFFSETFROM:-0500
TZOFFSETTO:-0400
TZNAME:EDT
DTSTART:20310309T070000
END:DAYLIGHT
BEGIN:STANDARD
TZOFFSETFROM:-0400
TZOFFSETTO:-0500
TZNAME:EST
DTSTART:20311102T060000
END:STANDARD
END:VTIMEZONE
BEGIN:VEVENT
DTSTART;TZID=America/New_York:20300414T090000
DTEND;TZID=America/New_York:20300414T120000
DTSTAMP:20260421T212703
CREATED:20260325T230617Z
LAST-MODIFIED:20260325T230617Z
UID:10002048-1902387600-1902398400@www.sacketsharborsportsmansclub.com
SUMMARY:Trap Practice
DESCRIPTION:
URL:https://www.sacketsharborsportsmansclub.com/event/trap-practice/2030-04-14/
CATEGORIES:Events
END:VEVENT
BEGIN:VEVENT
DTSTART;TZID=America/New_York:20300421T090000
DTEND;TZID=America/New_York:20300421T120000
DTSTAMP:20260421T212703
CREATED:20260325T230617Z
LAST-MODIFIED:20260325T230617Z
UID:10002049-1902992400-1903003200@www.sacketsharborsportsmansclub.com
SUMMARY:Trap Practice
DESCRIPTION:
URL:https://www.sacketsharborsportsmansclub.com/event/trap-practice/2030-04-21/
CATEGORIES:Events
END:VEVENT
BEGIN:VEVENT
DTSTART;TZID=America/New_York:20300428T090000
DTEND;TZID=America/New_York:20300428T120000
DTSTAMP:20260421T212703
CREATED:20260325T230617Z
LAST-MODIFIED:20260325T230617Z
UID:10002050-1903597200-1903608000@www.sacketsharborsportsmansclub.com
SUMMARY:Trap Practice
DESCRIPTION:
URL:https://www.sacketsharborsportsmansclub.com/event/trap-practice/2030-04-28/
CATEGORIES:Events
END:VEVENT
BEGIN:VEVENT
DTSTART;TZID=America/New_York:20300505T090000
DTEND;TZID=America/New_York:20300505T120000
DTSTAMP:20260421T212703
CREATED:20260325T230617Z
LAST-MODIFIED:20260325T230617Z
UID:10002051-1904202000-1904212800@www.sacketsharborsportsmansclub.com
SUMMARY:Trap Practice
DESCRIPTION:
URL:https://www.sacketsharborsportsmansclub.com/event/trap-practice/2030-05-05/
CATEGORIES:Events
END:VEVENT
BEGIN:VEVENT
DTSTART;TZID=America/New_York:20300512T090000
DTEND;TZID=America/New_York:20300512T120000
DTSTAMP:20260421T212703
CREATED:20260325T230617Z
LAST-MODIFIED:20260325T230617Z
UID:10002052-1904806800-1904817600@www.sacketsharborsportsmansclub.com
SUMMARY:Trap Practice
DESCRIPTION:
URL:https://www.sacketsharborsportsmansclub.com/event/trap-practice/2030-05-12/
CATEGORIES:Events
END:VEVENT
BEGIN:VEVENT
DTSTART;TZID=America/New_York:20300513T190000
DTEND;TZID=America/New_York:20300513T203000
DTSTAMP:20260421T212703
CREATED:20250820T151007Z
LAST-MODIFIED:20250820T151357Z
UID:10001245-1904929200-1904934600@www.sacketsharborsportsmansclub.com
SUMMARY:Monthly Club Business Meeting.  All members are welcome.
DESCRIPTION:
URL:https://www.sacketsharborsportsmansclub.com/event/monthly-club-business-meeting-all-members-are-welcome-7/2030-05-13/
CATEGORIES:Events
END:VEVENT
BEGIN:VEVENT
DTSTART;TZID=America/New_York:20300519T090000
DTEND;TZID=America/New_York:20300519T120000
DTSTAMP:20260421T212703
CREATED:20260325T230617Z
LAST-MODIFIED:20260325T230617Z
UID:10002053-1905411600-1905422400@www.sacketsharborsportsmansclub.com
SUMMARY:Trap Practice
DESCRIPTION:
URL:https://www.sacketsharborsportsmansclub.com/event/trap-practice/2030-05-19/
CATEGORIES:Events
END:VEVENT
BEGIN:VEVENT
DTSTART;TZID=America/New_York:20300526T090000
DTEND;TZID=America/New_York:20300526T120000
DTSTAMP:20260421T212703
CREATED:20260325T230617Z
LAST-MODIFIED:20260325T230617Z
UID:10002054-1906016400-1906027200@www.sacketsharborsportsmansclub.com
SUMMARY:Trap Practice
DESCRIPTION:
URL:https://www.sacketsharborsportsmansclub.com/event/trap-practice/2030-05-26/
CATEGORIES:Events
END:VEVENT
BEGIN:VEVENT
DTSTART;TZID=America/New_York:20300602T090000
DTEND;TZID=America/New_York:20300602T120000
DTSTAMP:20260421T212703
CREATED:20260325T230617Z
LAST-MODIFIED:20260325T230617Z
UID:10002055-1906621200-1906632000@www.sacketsharborsportsmansclub.com
SUMMARY:Trap Practice
DESCRIPTION:
URL:https://www.sacketsharborsportsmansclub.com/event/trap-practice/2030-06-02/
CATEGORIES:Events
END:VEVENT
BEGIN:VEVENT
DTSTART;TZID=America/New_York:20300609T090000
DTEND;TZID=America/New_York:20300609T120000
DTSTAMP:20260421T212703
CREATED:20260325T230617Z
LAST-MODIFIED:20260325T230617Z
UID:10002056-1907226000-1907236800@www.sacketsharborsportsmansclub.com
SUMMARY:Trap Practice
DESCRIPTION:
URL:https://www.sacketsharborsportsmansclub.com/event/trap-practice/2030-06-09/
CATEGORIES:Events
END:VEVENT
BEGIN:VEVENT
DTSTART;TZID=America/New_York:20300610T190000
DTEND;TZID=America/New_York:20300610T203000
DTSTAMP:20260421T212703
CREATED:20250820T151007Z
LAST-MODIFIED:20250820T151357Z
UID:10001246-1907348400-1907353800@www.sacketsharborsportsmansclub.com
SUMMARY:Monthly Club Business Meeting.  All members are welcome.
DESCRIPTION:
URL:https://www.sacketsharborsportsmansclub.com/event/monthly-club-business-meeting-all-members-are-welcome-7/2030-06-10/
CATEGORIES:Events
END:VEVENT
BEGIN:VEVENT
DTSTART;TZID=America/New_York:20300616T090000
DTEND;TZID=America/New_York:20300616T120000
DTSTAMP:20260421T212703
CREATED:20260325T230617Z
LAST-MODIFIED:20260325T230617Z
UID:10002057-1907830800-1907841600@www.sacketsharborsportsmansclub.com
SUMMARY:Trap Practice
DESCRIPTION:
URL:https://www.sacketsharborsportsmansclub.com/event/trap-practice/2030-06-16/
CATEGORIES:Events
END:VEVENT
BEGIN:VEVENT
DTSTART;TZID=America/New_York:20300623T090000
DTEND;TZID=America/New_York:20300623T120000
DTSTAMP:20260421T212703
CREATED:20260325T230617Z
LAST-MODIFIED:20260325T230617Z
UID:10002058-1908435600-1908446400@www.sacketsharborsportsmansclub.com
SUMMARY:Trap Practice
DESCRIPTION:
URL:https://www.sacketsharborsportsmansclub.com/event/trap-practice/2030-06-23/
CATEGORIES:Events
END:VEVENT
BEGIN:VEVENT
DTSTART;TZID=America/New_York:20300630T090000
DTEND;TZID=America/New_York:20300630T120000
DTSTAMP:20260421T212703
CREATED:20260325T230617Z
LAST-MODIFIED:20260325T230617Z
UID:10002059-1909040400-1909051200@www.sacketsharborsportsmansclub.com
SUMMARY:Trap Practice
DESCRIPTION:
URL:https://www.sacketsharborsportsmansclub.com/event/trap-practice/2030-06-30/
CATEGORIES:Events
END:VEVENT
BEGIN:VEVENT
DTSTART;TZID=America/New_York:20300707T090000
DTEND;TZID=America/New_York:20300707T120000
DTSTAMP:20260421T212703
CREATED:20260325T230617Z
LAST-MODIFIED:20260325T230617Z
UID:10002060-1909645200-1909656000@www.sacketsharborsportsmansclub.com
SUMMARY:Trap Practice
DESCRIPTION:
URL:https://www.sacketsharborsportsmansclub.com/event/trap-practice/2030-07-07/
CATEGORIES:Events
END:VEVENT
BEGIN:VEVENT
DTSTART;TZID=America/New_York:20300708T190000
DTEND;TZID=America/New_York:20300708T203000
DTSTAMP:20260421T212703
CREATED:20250820T151007Z
LAST-MODIFIED:20250820T151357Z
UID:10001247-1909767600-1909773000@www.sacketsharborsportsmansclub.com
SUMMARY:Monthly Club Business Meeting.  All members are welcome.
DESCRIPTION:
URL:https://www.sacketsharborsportsmansclub.com/event/monthly-club-business-meeting-all-members-are-welcome-7/2030-07-08/
CATEGORIES:Events
END:VEVENT
BEGIN:VEVENT
DTSTART;TZID=America/New_York:20300714T090000
DTEND;TZID=America/New_York:20300714T120000
DTSTAMP:20260421T212703
CREATED:20260325T230617Z
LAST-MODIFIED:20260325T230617Z
UID:10002061-1910250000-1910260800@www.sacketsharborsportsmansclub.com
SUMMARY:Trap Practice
DESCRIPTION:
URL:https://www.sacketsharborsportsmansclub.com/event/trap-practice/2030-07-14/
CATEGORIES:Events
END:VEVENT
BEGIN:VEVENT
DTSTART;TZID=America/New_York:20300721T090000
DTEND;TZID=America/New_York:20300721T120000
DTSTAMP:20260421T212703
CREATED:20260325T230617Z
LAST-MODIFIED:20260325T230617Z
UID:10002062-1910854800-1910865600@www.sacketsharborsportsmansclub.com
SUMMARY:Trap Practice
DESCRIPTION:
URL:https://www.sacketsharborsportsmansclub.com/event/trap-practice/2030-07-21/
CATEGORIES:Events
END:VEVENT
BEGIN:VEVENT
DTSTART;TZID=America/New_York:20300728T090000
DTEND;TZID=America/New_York:20300728T120000
DTSTAMP:20260421T212703
CREATED:20260325T230617Z
LAST-MODIFIED:20260325T230617Z
UID:10002063-1911459600-1911470400@www.sacketsharborsportsmansclub.com
SUMMARY:Trap Practice
DESCRIPTION:
URL:https://www.sacketsharborsportsmansclub.com/event/trap-practice/2030-07-28/
CATEGORIES:Events
END:VEVENT
BEGIN:VEVENT
DTSTART;TZID=America/New_York:20300804T090000
DTEND;TZID=America/New_York:20300804T120000
DTSTAMP:20260421T212703
CREATED:20260325T230617Z
LAST-MODIFIED:20260325T230617Z
UID:10002064-1912064400-1912075200@www.sacketsharborsportsmansclub.com
SUMMARY:Trap Practice
DESCRIPTION:
URL:https://www.sacketsharborsportsmansclub.com/event/trap-practice/2030-08-04/
CATEGORIES:Events
END:VEVENT
BEGIN:VEVENT
DTSTART;TZID=America/New_York:20300811T090000
DTEND;TZID=America/New_York:20300811T120000
DTSTAMP:20260421T212703
CREATED:20260325T230617Z
LAST-MODIFIED:20260325T230617Z
UID:10002065-1912669200-1912680000@www.sacketsharborsportsmansclub.com
SUMMARY:Trap Practice
DESCRIPTION:
URL:https://www.sacketsharborsportsmansclub.com/event/trap-practice/2030-08-11/
CATEGORIES:Events
END:VEVENT
BEGIN:VEVENT
DTSTART;TZID=America/New_York:20300812T190000
DTEND;TZID=America/New_York:20300812T203000
DTSTAMP:20260421T212703
CREATED:20250820T151007Z
LAST-MODIFIED:20250820T151357Z
UID:10001248-1912791600-1912797000@www.sacketsharborsportsmansclub.com
SUMMARY:Monthly Club Business Meeting.  All members are welcome.
DESCRIPTION:
URL:https://www.sacketsharborsportsmansclub.com/event/monthly-club-business-meeting-all-members-are-welcome-7/2030-08-12/
CATEGORIES:Events
END:VEVENT
BEGIN:VEVENT
DTSTART;TZID=America/New_York:20300818T090000
DTEND;TZID=America/New_York:20300818T120000
DTSTAMP:20260421T212703
CREATED:20260325T230617Z
LAST-MODIFIED:20260325T230617Z
UID:10002066-1913274000-1913284800@www.sacketsharborsportsmansclub.com
SUMMARY:Trap Practice
DESCRIPTION:
URL:https://www.sacketsharborsportsmansclub.com/event/trap-practice/2030-08-18/
CATEGORIES:Events
END:VEVENT
BEGIN:VEVENT
DTSTART;TZID=America/New_York:20300825T090000
DTEND;TZID=America/New_York:20300825T120000
DTSTAMP:20260421T212703
CREATED:20260325T230617Z
LAST-MODIFIED:20260325T230617Z
UID:10002067-1913878800-1913889600@www.sacketsharborsportsmansclub.com
SUMMARY:Trap Practice
DESCRIPTION:
URL:https://www.sacketsharborsportsmansclub.com/event/trap-practice/2030-08-25/
CATEGORIES:Events
END:VEVENT
BEGIN:VEVENT
DTSTART;TZID=America/New_York:20300901T090000
DTEND;TZID=America/New_York:20300901T120000
DTSTAMP:20260421T212703
CREATED:20260325T230617Z
LAST-MODIFIED:20260325T230617Z
UID:10002068-1914483600-1914494400@www.sacketsharborsportsmansclub.com
SUMMARY:Trap Practice
DESCRIPTION:
URL:https://www.sacketsharborsportsmansclub.com/event/trap-practice/2030-09-01/
CATEGORIES:Events
END:VEVENT
BEGIN:VEVENT
DTSTART;TZID=America/New_York:20300908T090000
DTEND;TZID=America/New_York:20300908T120000
DTSTAMP:20260421T212703
CREATED:20260325T230617Z
LAST-MODIFIED:20260325T230617Z
UID:10002069-1915088400-1915099200@www.sacketsharborsportsmansclub.com
SUMMARY:Trap Practice
DESCRIPTION:
URL:https://www.sacketsharborsportsmansclub.com/event/trap-practice/2030-09-08/
CATEGORIES:Events
END:VEVENT
BEGIN:VEVENT
DTSTART;TZID=America/New_York:20300915T090000
DTEND;TZID=America/New_York:20300915T120000
DTSTAMP:20260421T212703
CREATED:20260325T230617Z
LAST-MODIFIED:20260325T230617Z
UID:10002070-1915693200-1915704000@www.sacketsharborsportsmansclub.com
SUMMARY:Trap Practice
DESCRIPTION:
URL:https://www.sacketsharborsportsmansclub.com/event/trap-practice/2030-09-15/
CATEGORIES:Events
END:VEVENT
BEGIN:VEVENT
DTSTART;TZID=America/New_York:20300922T090000
DTEND;TZID=America/New_York:20300922T120000
DTSTAMP:20260421T212703
CREATED:20260325T230617Z
LAST-MODIFIED:20260325T230617Z
UID:10002071-1916298000-1916308800@www.sacketsharborsportsmansclub.com
SUMMARY:Trap Practice
DESCRIPTION:
URL:https://www.sacketsharborsportsmansclub.com/event/trap-practice/2030-09-22/
CATEGORIES:Events
END:VEVENT
BEGIN:VEVENT
DTSTART;TZID=America/New_York:20300929T090000
DTEND;TZID=America/New_York:20300929T120000
DTSTAMP:20260421T212703
CREATED:20260325T230617Z
LAST-MODIFIED:20260325T230617Z
UID:10002072-1916902800-1916913600@www.sacketsharborsportsmansclub.com
SUMMARY:Trap Practice
DESCRIPTION:
URL:https://www.sacketsharborsportsmansclub.com/event/trap-practice/2030-09-29/
CATEGORIES:Events
END:VEVENT
BEGIN:VEVENT
DTSTART;TZID=America/New_York:20301006T090000
DTEND;TZID=America/New_York:20301006T120000
DTSTAMP:20260421T212703
CREATED:20260325T230617Z
LAST-MODIFIED:20260325T230617Z
UID:10002073-1917507600-1917518400@www.sacketsharborsportsmansclub.com
SUMMARY:Trap Practice
DESCRIPTION:
URL:https://www.sacketsharborsportsmansclub.com/event/trap-practice/2030-10-06/
CATEGORIES:Events
END:VEVENT
END:VCALENDAR