BEGIN:VCALENDAR
VERSION:2.0
PRODID:-//Sackets Harbor Sportsman Club - ECPv6.15.17.1//NONSGML v1.0//EN
CALSCALE:GREGORIAN
METHOD:PUBLISH
X-ORIGINAL-URL:https://www.sacketsharborsportsmansclub.com
X-WR-CALDESC:Events for Sackets Harbor Sportsman Club
REFRESH-INTERVAL;VALUE=DURATION:PT1H
X-Robots-Tag:noindex
X-PUBLISHED-TTL:PT1H
BEGIN:VTIMEZONE
TZID:America/New_York
BEGIN:DAYLIGHT
TZOFFSETFROM:-0500
TZOFFSETTO:-0400
TZNAME:EDT
DTSTART:20250309T070000
END:DAYLIGHT
BEGIN:STANDARD
TZOFFSETFROM:-0400
TZOFFSETTO:-0500
TZNAME:EST
DTSTART:20251102T060000
END:STANDARD
BEGIN:DAYLIGHT
TZOFFSETFROM:-0500
TZOFFSETTO:-0400
TZNAME:EDT
DTSTART:20260308T070000
END:DAYLIGHT
BEGIN:STANDARD
TZOFFSETFROM:-0400
TZOFFSETTO:-0500
TZNAME:EST
DTSTART:20261101T060000
END:STANDARD
BEGIN:DAYLIGHT
TZOFFSETFROM:-0500
TZOFFSETTO:-0400
TZNAME:EDT
DTSTART:20270314T070000
END:DAYLIGHT
BEGIN:STANDARD
TZOFFSETFROM:-0400
TZOFFSETTO:-0500
TZNAME:EST
DTSTART:20271107T060000
END:STANDARD
END:VTIMEZONE
BEGIN:VEVENT
DTSTART;TZID=America/New_York:20260418T090000
DTEND;TZID=America/New_York:20260418T140000
DTSTAMP:20260421T110334
CREATED:20260411T230102Z
LAST-MODIFIED:20260411T230102Z
UID:10002246-1776502800-1776520800@www.sacketsharborsportsmansclub.com
SUMMARY:Range 3 & 4 Closed
DESCRIPTION:
URL:https://www.sacketsharborsportsmansclub.com/event/range-3-4-closed/2026-04-18/
CATEGORIES:Events
END:VEVENT
BEGIN:VEVENT
DTSTART;TZID=America/New_York:20260419T080000
DTEND;TZID=America/New_York:20260419T120000
DTSTAMP:20260421T110334
CREATED:20260326T140953Z
LAST-MODIFIED:20260326T140953Z
UID:10002183-1776585600-1776600000@www.sacketsharborsportsmansclub.com
SUMMARY:Claycrushers Practice
DESCRIPTION:
URL:https://www.sacketsharborsportsmansclub.com/event/claycrushers-practice-2/2026-04-19/
CATEGORIES:Events
END:VEVENT
BEGIN:VEVENT
DTSTART;TZID=America/New_York:20260419T090000
DTEND;TZID=America/New_York:20260419T120000
DTSTAMP:20260421T110334
CREATED:20260325T230617Z
LAST-MODIFIED:20260325T230617Z
UID:10001840-1776589200-1776600000@www.sacketsharborsportsmansclub.com
SUMMARY:Trap Practice
DESCRIPTION:
URL:https://www.sacketsharborsportsmansclub.com/event/trap-practice/2026-04-19/
CATEGORIES:Events
END:VEVENT
BEGIN:VEVENT
DTSTART;TZID=America/New_York:20260419T090000
DTEND;TZID=America/New_York:20260419T140000
DTSTAMP:20260421T110334
CREATED:20260411T230102Z
LAST-MODIFIED:20260411T230102Z
UID:10002247-1776589200-1776607200@www.sacketsharborsportsmansclub.com
SUMMARY:Range 3 & 4 Closed
DESCRIPTION:
URL:https://www.sacketsharborsportsmansclub.com/event/range-3-4-closed/2026-04-19/
CATEGORIES:Events
END:VEVENT
BEGIN:VEVENT
DTSTART;TZID=America/New_York:20260422T033000
DTEND;TZID=America/New_York:20260422T210000
DTSTAMP:20260421T110334
CREATED:20260325T230857Z
LAST-MODIFIED:20260325T230857Z
UID:10002101-1776828600-1776891600@www.sacketsharborsportsmansclub.com
SUMMARY:Trap Practice
DESCRIPTION:
URL:https://www.sacketsharborsportsmansclub.com/event/trap-practice-3/2026-04-22/
CATEGORIES:Events
END:VEVENT
BEGIN:VEVENT
DTSTART;TZID=America/New_York:20260423T100000
DTEND;TZID=America/New_York:20260423T123000
DTSTAMP:20260421T110334
CREATED:20260420T195219Z
LAST-MODIFIED:20260420T195307Z
UID:10002280-1776938400-1776947400@www.sacketsharborsportsmansclub.com
SUMMARY:Lower Range Reserved JCC
DESCRIPTION:
URL:https://www.sacketsharborsportsmansclub.com/event/lower-range-closed/
CATEGORIES:Events
END:VEVENT
BEGIN:VEVENT
DTSTART;TZID=America/New_York:20260423T163000
DTEND;TZID=America/New_York:20260423T210000
DTSTAMP:20260421T110334
CREATED:20260413T155055Z
LAST-MODIFIED:20260413T155055Z
UID:10002251-1776961800-1776978000@www.sacketsharborsportsmansclub.com
SUMMARY:NTTL League Shoot Brownville @ Sackets
DESCRIPTION:
URL:https://www.sacketsharborsportsmansclub.com/event/nttl-league-shoot-brownville-sackets/
CATEGORIES:Events
END:VEVENT
BEGIN:VEVENT
DTSTART;TZID=America/New_York:20260425T090000
DTEND;TZID=America/New_York:20260425T140000
DTSTAMP:20260421T110334
CREATED:20260411T230102Z
LAST-MODIFIED:20260411T230102Z
UID:10002248-1777107600-1777125600@www.sacketsharborsportsmansclub.com
SUMMARY:Range 3 & 4 Closed
DESCRIPTION:
URL:https://www.sacketsharborsportsmansclub.com/event/range-3-4-closed/2026-04-25/
CATEGORIES:Events
END:VEVENT
BEGIN:VEVENT
DTSTART;TZID=America/New_York:20260426T080000
DTEND;TZID=America/New_York:20260426T120000
DTSTAMP:20260421T110334
CREATED:20260326T140953Z
LAST-MODIFIED:20260326T140953Z
UID:10002184-1777190400-1777204800@www.sacketsharborsportsmansclub.com
SUMMARY:Claycrushers Practice
DESCRIPTION:
URL:https://www.sacketsharborsportsmansclub.com/event/claycrushers-practice-2/2026-04-26/
CATEGORIES:Events
END:VEVENT
BEGIN:VEVENT
DTSTART;TZID=America/New_York:20260426T090000
DTEND;TZID=America/New_York:20260426T120000
DTSTAMP:20260421T110334
CREATED:20260325T230617Z
LAST-MODIFIED:20260325T230617Z
UID:10001841-1777194000-1777204800@www.sacketsharborsportsmansclub.com
SUMMARY:Trap Practice
DESCRIPTION:
URL:https://www.sacketsharborsportsmansclub.com/event/trap-practice/2026-04-26/
CATEGORIES:Events
END:VEVENT
BEGIN:VEVENT
DTSTART;TZID=America/New_York:20260426T090000
DTEND;TZID=America/New_York:20260426T120000
DTSTAMP:20260421T110334
CREATED:20260411T230102Z
LAST-MODIFIED:20260411T230102Z
UID:10002249-1777194000-1777204800@www.sacketsharborsportsmansclub.com
SUMMARY:Range 3 & 4 Closed
DESCRIPTION:
URL:https://www.sacketsharborsportsmansclub.com/event/range-3-4-closed/2026-04-26/
CATEGORIES:Events
END:VEVENT
BEGIN:VEVENT
DTSTART;TZID=America/New_York:20260429T033000
DTEND;TZID=America/New_York:20260429T210000
DTSTAMP:20260421T110334
CREATED:20260325T230857Z
LAST-MODIFIED:20260325T230857Z
UID:10002102-1777433400-1777496400@www.sacketsharborsportsmansclub.com
SUMMARY:Trap Practice
DESCRIPTION:
URL:https://www.sacketsharborsportsmansclub.com/event/trap-practice-3/2026-04-29/
CATEGORIES:Events
END:VEVENT
BEGIN:VEVENT
DTSTART;TZID=America/New_York:20260430T163000
DTEND;TZID=America/New_York:20260430T210000
DTSTAMP:20260421T110334
CREATED:20260413T155257Z
LAST-MODIFIED:20260413T155257Z
UID:10002252-1777566600-1777582800@www.sacketsharborsportsmansclub.com
SUMMARY:NTTL League Shoot Sackets @ Harrisville
DESCRIPTION:
URL:https://www.sacketsharborsportsmansclub.com/event/nttl-league-shoot-sackets-harrisville/
CATEGORIES:Events
END:VEVENT
BEGIN:VEVENT
DTSTART;TZID=America/New_York:20260503T080000
DTEND;TZID=America/New_York:20260503T120000
DTSTAMP:20260421T110334
CREATED:20260326T140953Z
LAST-MODIFIED:20260326T140953Z
UID:10002185-1777795200-1777809600@www.sacketsharborsportsmansclub.com
SUMMARY:Claycrushers Practice
DESCRIPTION:
URL:https://www.sacketsharborsportsmansclub.com/event/claycrushers-practice-2/2026-05-03/
CATEGORIES:Events
END:VEVENT
BEGIN:VEVENT
DTSTART;TZID=America/New_York:20260503T090000
DTEND;TZID=America/New_York:20260503T120000
DTSTAMP:20260421T110334
CREATED:20260325T230617Z
LAST-MODIFIED:20260325T230617Z
UID:10001842-1777798800-1777809600@www.sacketsharborsportsmansclub.com
SUMMARY:Trap Practice
DESCRIPTION:
URL:https://www.sacketsharborsportsmansclub.com/event/trap-practice/2026-05-03/
CATEGORIES:Events
END:VEVENT
BEGIN:VEVENT
DTSTART;TZID=America/New_York:20260506T033000
DTEND;TZID=America/New_York:20260506T210000
DTSTAMP:20260421T110334
CREATED:20260325T230857Z
LAST-MODIFIED:20260325T230857Z
UID:10002103-1778038200-1778101200@www.sacketsharborsportsmansclub.com
SUMMARY:Trap Practice
DESCRIPTION:
URL:https://www.sacketsharborsportsmansclub.com/event/trap-practice-3/2026-05-06/
CATEGORIES:Events
END:VEVENT
BEGIN:VEVENT
DTSTART;TZID=America/New_York:20260507T163000
DTEND;TZID=America/New_York:20260507T210000
DTSTAMP:20260421T110334
CREATED:20260413T155756Z
LAST-MODIFIED:20260413T170559Z
UID:10002253-1778171400-1778187600@www.sacketsharborsportsmansclub.com
SUMMARY:NTTL League Gouverneur @ Sackets
DESCRIPTION:
URL:https://www.sacketsharborsportsmansclub.com/event/nttl-league-shoot-sackets-gouverneur/
CATEGORIES:Events
END:VEVENT
BEGIN:VEVENT
DTSTART;TZID=America/New_York:20260510T080000
DTEND;TZID=America/New_York:20260510T120000
DTSTAMP:20260421T110334
CREATED:20260326T140953Z
LAST-MODIFIED:20260326T140953Z
UID:10002186-1778400000-1778414400@www.sacketsharborsportsmansclub.com
SUMMARY:Claycrushers Practice
DESCRIPTION:
URL:https://www.sacketsharborsportsmansclub.com/event/claycrushers-practice-2/2026-05-10/
CATEGORIES:Events
END:VEVENT
BEGIN:VEVENT
DTSTART;TZID=America/New_York:20260510T090000
DTEND;TZID=America/New_York:20260510T120000
DTSTAMP:20260421T110334
CREATED:20260325T230617Z
LAST-MODIFIED:20260325T230617Z
UID:10001843-1778403600-1778414400@www.sacketsharborsportsmansclub.com
SUMMARY:Trap Practice
DESCRIPTION:
URL:https://www.sacketsharborsportsmansclub.com/event/trap-practice/2026-05-10/
CATEGORIES:Events
END:VEVENT
BEGIN:VEVENT
DTSTART;TZID=America/New_York:20260511T190000
DTEND;TZID=America/New_York:20260511T203000
DTSTAMP:20260421T110334
CREATED:20250820T151007Z
LAST-MODIFIED:20250820T151357Z
UID:10001197-1778526000-1778531400@www.sacketsharborsportsmansclub.com
SUMMARY:Monthly Club Business Meeting.  All members are welcome.
DESCRIPTION:
URL:https://www.sacketsharborsportsmansclub.com/event/monthly-club-business-meeting-all-members-are-welcome-7/2026-05-11/
CATEGORIES:Events
END:VEVENT
BEGIN:VEVENT
DTSTART;TZID=America/New_York:20260513T033000
DTEND;TZID=America/New_York:20260513T210000
DTSTAMP:20260421T110334
CREATED:20260325T230857Z
LAST-MODIFIED:20260325T230857Z
UID:10002104-1778643000-1778706000@www.sacketsharborsportsmansclub.com
SUMMARY:Trap Practice
DESCRIPTION:
URL:https://www.sacketsharborsportsmansclub.com/event/trap-practice-3/2026-05-13/
CATEGORIES:Events
END:VEVENT
BEGIN:VEVENT
DTSTART;TZID=America/New_York:20260514T163000
DTEND;TZID=America/New_York:20260514T210000
DTSTAMP:20260421T110334
CREATED:20260413T155929Z
LAST-MODIFIED:20260413T170353Z
UID:10002254-1778776200-1778792400@www.sacketsharborsportsmansclub.com
SUMMARY:NTTL League Shoot Sackets @ Beaver River
DESCRIPTION:
URL:https://www.sacketsharborsportsmansclub.com/event/nttl-league-shoot-beaver-river-sackets/
CATEGORIES:Events
END:VEVENT
BEGIN:VEVENT
DTSTART;TZID=America/New_York:20260517T080000
DTEND;TZID=America/New_York:20260517T120000
DTSTAMP:20260421T110334
CREATED:20260326T140953Z
LAST-MODIFIED:20260326T140953Z
UID:10002187-1779004800-1779019200@www.sacketsharborsportsmansclub.com
SUMMARY:Claycrushers Practice
DESCRIPTION:
URL:https://www.sacketsharborsportsmansclub.com/event/claycrushers-practice-2/2026-05-17/
CATEGORIES:Events
END:VEVENT
BEGIN:VEVENT
DTSTART;TZID=America/New_York:20260517T090000
DTEND;TZID=America/New_York:20260517T120000
DTSTAMP:20260421T110334
CREATED:20260325T230617Z
LAST-MODIFIED:20260325T230617Z
UID:10001844-1779008400-1779019200@www.sacketsharborsportsmansclub.com
SUMMARY:Trap Practice
DESCRIPTION:
URL:https://www.sacketsharborsportsmansclub.com/event/trap-practice/2026-05-17/
CATEGORIES:Events
END:VEVENT
BEGIN:VEVENT
DTSTART;TZID=America/New_York:20260520T033000
DTEND;TZID=America/New_York:20260520T210000
DTSTAMP:20260421T110334
CREATED:20260325T230857Z
LAST-MODIFIED:20260325T230857Z
UID:10002105-1779247800-1779310800@www.sacketsharborsportsmansclub.com
SUMMARY:Trap Practice
DESCRIPTION:
URL:https://www.sacketsharborsportsmansclub.com/event/trap-practice-3/2026-05-20/
CATEGORIES:Events
END:VEVENT
BEGIN:VEVENT
DTSTART;TZID=America/New_York:20260521T163000
DTEND;TZID=America/New_York:20260521T210000
DTSTAMP:20260421T110334
CREATED:20260413T160107Z
LAST-MODIFIED:20260413T160651Z
UID:10002255-1779381000-1779397200@www.sacketsharborsportsmansclub.com
SUMMARY:NTTL League Shoot Sno-Fun @ Sackets
DESCRIPTION:
URL:https://www.sacketsharborsportsmansclub.com/event/nttl-league-shoot-sackets-sno-fun/
CATEGORIES:Events
END:VEVENT
BEGIN:VEVENT
DTSTART;TZID=America/New_York:20260524T080000
DTEND;TZID=America/New_York:20260524T120000
DTSTAMP:20260421T110334
CREATED:20260326T140953Z
LAST-MODIFIED:20260326T140953Z
UID:10002188-1779609600-1779624000@www.sacketsharborsportsmansclub.com
SUMMARY:Claycrushers Practice
DESCRIPTION:
URL:https://www.sacketsharborsportsmansclub.com/event/claycrushers-practice-2/2026-05-24/
CATEGORIES:Events
END:VEVENT
BEGIN:VEVENT
DTSTART;TZID=America/New_York:20260524T090000
DTEND;TZID=America/New_York:20260524T120000
DTSTAMP:20260421T110334
CREATED:20260325T230617Z
LAST-MODIFIED:20260325T230617Z
UID:10001845-1779613200-1779624000@www.sacketsharborsportsmansclub.com
SUMMARY:Trap Practice
DESCRIPTION:
URL:https://www.sacketsharborsportsmansclub.com/event/trap-practice/2026-05-24/
CATEGORIES:Events
END:VEVENT
BEGIN:VEVENT
DTSTART;TZID=America/New_York:20260527T033000
DTEND;TZID=America/New_York:20260527T210000
DTSTAMP:20260421T110334
CREATED:20260325T230857Z
LAST-MODIFIED:20260325T230857Z
UID:10002106-1779852600-1779915600@www.sacketsharborsportsmansclub.com
SUMMARY:Trap Practice
DESCRIPTION:
URL:https://www.sacketsharborsportsmansclub.com/event/trap-practice-3/2026-05-27/
CATEGORIES:Events
END:VEVENT
BEGIN:VEVENT
DTSTART;TZID=America/New_York:20260528T163000
DTEND;TZID=America/New_York:20260528T210000
DTSTAMP:20260421T110334
CREATED:20260413T160529Z
LAST-MODIFIED:20260413T160529Z
UID:10002256-1779985800-1780002000@www.sacketsharborsportsmansclub.com
SUMMARY:NTTL League Shoot Sackets @ Henderson
DESCRIPTION:
URL:https://www.sacketsharborsportsmansclub.com/event/nttl-league-shoot-sackets-henderson/
CATEGORIES:Events
END:VEVENT
END:VCALENDAR