BEGIN:VCALENDAR
VERSION:2.0
PRODID:-//Sackets Harbor Sportsman Club - ECPv6.15.17.1//NONSGML v1.0//EN
CALSCALE:GREGORIAN
METHOD:PUBLISH
X-WR-CALNAME:Sackets Harbor Sportsman Club
X-ORIGINAL-URL:https://www.sacketsharborsportsmansclub.com
X-WR-CALDESC:Events for Sackets Harbor Sportsman Club
REFRESH-INTERVAL;VALUE=DURATION:PT1H
X-Robots-Tag:noindex
X-PUBLISHED-TTL:PT1H
BEGIN:VTIMEZONE
TZID:America/New_York
BEGIN:DAYLIGHT
TZOFFSETFROM:-0500
TZOFFSETTO:-0400
TZNAME:EDT
DTSTART:20250309T070000
END:DAYLIGHT
BEGIN:STANDARD
TZOFFSETFROM:-0400
TZOFFSETTO:-0500
TZNAME:EST
DTSTART:20251102T060000
END:STANDARD
BEGIN:DAYLIGHT
TZOFFSETFROM:-0500
TZOFFSETTO:-0400
TZNAME:EDT
DTSTART:20260308T070000
END:DAYLIGHT
BEGIN:STANDARD
TZOFFSETFROM:-0400
TZOFFSETTO:-0500
TZNAME:EST
DTSTART:20261101T060000
END:STANDARD
BEGIN:DAYLIGHT
TZOFFSETFROM:-0500
TZOFFSETTO:-0400
TZNAME:EDT
DTSTART:20270314T070000
END:DAYLIGHT
BEGIN:STANDARD
TZOFFSETFROM:-0400
TZOFFSETTO:-0500
TZNAME:EST
DTSTART:20271107T060000
END:STANDARD
END:VTIMEZONE
BEGIN:VEVENT
DTSTART;TZID=America/New_York:20260607T080000
DTEND;TZID=America/New_York:20260607T120000
DTSTAMP:20260421T110317
CREATED:20260326T140953Z
LAST-MODIFIED:20260326T140953Z
UID:10002190-1780819200-1780833600@www.sacketsharborsportsmansclub.com
SUMMARY:Claycrushers Practice
DESCRIPTION:
URL:https://www.sacketsharborsportsmansclub.com/event/claycrushers-practice-2/2026-06-07/
CATEGORIES:Events
END:VEVENT
BEGIN:VEVENT
DTSTART;TZID=America/New_York:20260607T090000
DTEND;TZID=America/New_York:20260607T120000
DTSTAMP:20260421T110317
CREATED:20260325T230617Z
LAST-MODIFIED:20260325T230617Z
UID:10001847-1780822800-1780833600@www.sacketsharborsportsmansclub.com
SUMMARY:Trap Practice
DESCRIPTION:
URL:https://www.sacketsharborsportsmansclub.com/event/trap-practice/2026-06-07/
CATEGORIES:Events
END:VEVENT
BEGIN:VEVENT
DTSTART;TZID=America/New_York:20260608T190000
DTEND;TZID=America/New_York:20260608T203000
DTSTAMP:20260421T110317
CREATED:20250820T151007Z
LAST-MODIFIED:20250820T151357Z
UID:10001198-1780945200-1780950600@www.sacketsharborsportsmansclub.com
SUMMARY:Monthly Club Business Meeting.  All members are welcome.
DESCRIPTION:
URL:https://www.sacketsharborsportsmansclub.com/event/monthly-club-business-meeting-all-members-are-welcome-7/2026-06-08/
CATEGORIES:Events
END:VEVENT
BEGIN:VEVENT
DTSTART;TZID=America/New_York:20260610T033000
DTEND;TZID=America/New_York:20260610T210000
DTSTAMP:20260421T110317
CREATED:20260325T230857Z
LAST-MODIFIED:20260325T230857Z
UID:10002108-1781062200-1781125200@www.sacketsharborsportsmansclub.com
SUMMARY:Trap Practice
DESCRIPTION:
URL:https://www.sacketsharborsportsmansclub.com/event/trap-practice-3/2026-06-10/
CATEGORIES:Events
END:VEVENT
BEGIN:VEVENT
DTSTART;TZID=America/New_York:20260611T163000
DTEND;TZID=America/New_York:20260611T210000
DTSTAMP:20260421T110317
CREATED:20260413T161029Z
LAST-MODIFIED:20260413T161029Z
UID:10002258-1781195400-1781211600@www.sacketsharborsportsmansclub.com
SUMMARY:NTTL League Shoot Lyme @ Sackets
DESCRIPTION:
URL:https://www.sacketsharborsportsmansclub.com/event/nttl-league-shoot-lyme-sackets/
CATEGORIES:Events
END:VEVENT
BEGIN:VEVENT
DTSTART;TZID=America/New_York:20260613T090000
DTEND;TZID=America/New_York:20260613T180000
DTSTAMP:20260421T110317
CREATED:20260420T174134Z
LAST-MODIFIED:20260420T174134Z
UID:10002276-1781341200-1781373600@www.sacketsharborsportsmansclub.com
SUMMARY:Pistol Permit Class
DESCRIPTION:
URL:https://www.sacketsharborsportsmansclub.com/event/pistol-permit-class-2/2026-06-13/
CATEGORIES:Events
END:VEVENT
BEGIN:VEVENT
DTSTART;TZID=America/New_York:20260614T010000
DTEND;TZID=America/New_York:20260614T150000
DTSTAMP:20260421T110317
CREATED:20260420T174347Z
LAST-MODIFIED:20260420T174347Z
UID:10002279-1781398800-1781449200@www.sacketsharborsportsmansclub.com
SUMMARY:Ranges 3 & 4 Closed
DESCRIPTION:
URL:https://www.sacketsharborsportsmansclub.com/event/ranges-3-4-closed/2026-06-14/
CATEGORIES:Events
END:VEVENT
BEGIN:VEVENT
DTSTART;TZID=America/New_York:20260614T080000
DTEND;TZID=America/New_York:20260614T120000
DTSTAMP:20260421T110317
CREATED:20260326T140953Z
LAST-MODIFIED:20260326T140953Z
UID:10002191-1781424000-1781438400@www.sacketsharborsportsmansclub.com
SUMMARY:Claycrushers Practice
DESCRIPTION:
URL:https://www.sacketsharborsportsmansclub.com/event/claycrushers-practice-2/2026-06-14/
CATEGORIES:Events
END:VEVENT
BEGIN:VEVENT
DTSTART;TZID=America/New_York:20260614T090000
DTEND;TZID=America/New_York:20260614T120000
DTSTAMP:20260421T110317
CREATED:20260325T230617Z
LAST-MODIFIED:20260325T230617Z
UID:10001848-1781427600-1781438400@www.sacketsharborsportsmansclub.com
SUMMARY:Trap Practice
DESCRIPTION:
URL:https://www.sacketsharborsportsmansclub.com/event/trap-practice/2026-06-14/
CATEGORIES:Events
END:VEVENT
BEGIN:VEVENT
DTSTART;TZID=America/New_York:20260614T090000
DTEND;TZID=America/New_York:20260614T180000
DTSTAMP:20260421T110317
CREATED:20260420T174134Z
LAST-MODIFIED:20260420T174134Z
UID:10002277-1781427600-1781460000@www.sacketsharborsportsmansclub.com
SUMMARY:Pistol Permit Class
DESCRIPTION:
URL:https://www.sacketsharborsportsmansclub.com/event/pistol-permit-class-2/2026-06-14/
CATEGORIES:Events
END:VEVENT
BEGIN:VEVENT
DTSTART;TZID=America/New_York:20260617T033000
DTEND;TZID=America/New_York:20260617T210000
DTSTAMP:20260421T110317
CREATED:20260325T230857Z
LAST-MODIFIED:20260325T230857Z
UID:10002109-1781667000-1781730000@www.sacketsharborsportsmansclub.com
SUMMARY:Trap Practice
DESCRIPTION:
URL:https://www.sacketsharborsportsmansclub.com/event/trap-practice-3/2026-06-17/
CATEGORIES:Events
END:VEVENT
BEGIN:VEVENT
DTSTART;TZID=America/New_York:20260618T163000
DTEND;TZID=America/New_York:20260618T210000
DTSTAMP:20260421T110317
CREATED:20260413T161603Z
LAST-MODIFIED:20260413T161603Z
UID:10002259-1781800200-1781816400@www.sacketsharborsportsmansclub.com
SUMMARY:NTTL League Shoot Sackets @ Adams Center
DESCRIPTION:
URL:https://www.sacketsharborsportsmansclub.com/event/nttl-league-shoot-sackets-adams-center/
CATEGORIES:Events
END:VEVENT
BEGIN:VEVENT
DTSTART;TZID=America/New_York:20260621T080000
DTEND;TZID=America/New_York:20260621T120000
DTSTAMP:20260421T110317
CREATED:20260326T140953Z
LAST-MODIFIED:20260326T140953Z
UID:10002192-1782028800-1782043200@www.sacketsharborsportsmansclub.com
SUMMARY:Claycrushers Practice
DESCRIPTION:
URL:https://www.sacketsharborsportsmansclub.com/event/claycrushers-practice-2/2026-06-21/
CATEGORIES:Events
END:VEVENT
BEGIN:VEVENT
DTSTART;TZID=America/New_York:20260621T090000
DTEND;TZID=America/New_York:20260621T120000
DTSTAMP:20260421T110317
CREATED:20260325T230617Z
LAST-MODIFIED:20260325T230617Z
UID:10001849-1782032400-1782043200@www.sacketsharborsportsmansclub.com
SUMMARY:Trap Practice
DESCRIPTION:
URL:https://www.sacketsharborsportsmansclub.com/event/trap-practice/2026-06-21/
CATEGORIES:Events
END:VEVENT
BEGIN:VEVENT
DTSTART;TZID=America/New_York:20260624T033000
DTEND;TZID=America/New_York:20260624T210000
DTSTAMP:20260421T110317
CREATED:20260325T230857Z
LAST-MODIFIED:20260325T230857Z
UID:10002110-1782271800-1782334800@www.sacketsharborsportsmansclub.com
SUMMARY:Trap Practice
DESCRIPTION:
URL:https://www.sacketsharborsportsmansclub.com/event/trap-practice-3/2026-06-24/
CATEGORIES:Events
END:VEVENT
BEGIN:VEVENT
DTSTART;TZID=America/New_York:20260625T163000
DTEND;TZID=America/New_York:20260625T210000
DTSTAMP:20260421T110317
CREATED:20260413T161825Z
LAST-MODIFIED:20260413T161825Z
UID:10002260-1782405000-1782421200@www.sacketsharborsportsmansclub.com
SUMMARY:NTTL League Shoot Sackets @ Glen-Greig
DESCRIPTION:
URL:https://www.sacketsharborsportsmansclub.com/event/nttl-league-shoot-sackets-glen-greig/
CATEGORIES:Events
END:VEVENT
BEGIN:VEVENT
DTSTART;VALUE=DATE:20260627
DTEND;VALUE=DATE:20260628
DTSTAMP:20260421T110317
CREATED:20260420T173751Z
LAST-MODIFIED:20260420T173751Z
UID:10002273-1782518400-1782604799@www.sacketsharborsportsmansclub.com
SUMMARY:Private Event Club Closed to the Public
DESCRIPTION:
URL:https://www.sacketsharborsportsmansclub.com/event/private-event-club-closed-to-the-public/
CATEGORIES:Events
END:VEVENT
BEGIN:VEVENT
DTSTART;TZID=America/New_York:20260628T080000
DTEND;TZID=America/New_York:20260628T120000
DTSTAMP:20260421T110317
CREATED:20260326T140953Z
LAST-MODIFIED:20260326T140953Z
UID:10002193-1782633600-1782648000@www.sacketsharborsportsmansclub.com
SUMMARY:Claycrushers Practice
DESCRIPTION:
URL:https://www.sacketsharborsportsmansclub.com/event/claycrushers-practice-2/2026-06-28/
CATEGORIES:Events
END:VEVENT
BEGIN:VEVENT
DTSTART;TZID=America/New_York:20260628T090000
DTEND;TZID=America/New_York:20260628T120000
DTSTAMP:20260421T110317
CREATED:20260325T230617Z
LAST-MODIFIED:20260325T230617Z
UID:10001850-1782637200-1782648000@www.sacketsharborsportsmansclub.com
SUMMARY:Trap Practice
DESCRIPTION:
URL:https://www.sacketsharborsportsmansclub.com/event/trap-practice/2026-06-28/
CATEGORIES:Events
END:VEVENT
BEGIN:VEVENT
DTSTART;TZID=America/New_York:20260701T033000
DTEND;TZID=America/New_York:20260701T210000
DTSTAMP:20260421T110317
CREATED:20260325T230857Z
LAST-MODIFIED:20260325T230857Z
UID:10002111-1782876600-1782939600@www.sacketsharborsportsmansclub.com
SUMMARY:Trap Practice
DESCRIPTION:
URL:https://www.sacketsharborsportsmansclub.com/event/trap-practice-3/2026-07-01/
CATEGORIES:Events
END:VEVENT
BEGIN:VEVENT
DTSTART;TZID=America/New_York:20260702T163000
DTEND;TZID=America/New_York:20260702T210000
DTSTAMP:20260421T110317
CREATED:20260413T162001Z
LAST-MODIFIED:20260413T162001Z
UID:10002261-1783009800-1783026000@www.sacketsharborsportsmansclub.com
SUMMARY:NTTL League Shoot Lowville @ Sackets
DESCRIPTION:
URL:https://www.sacketsharborsportsmansclub.com/event/nttl-league-shoot-lowville-sackets/
CATEGORIES:Events
END:VEVENT
BEGIN:VEVENT
DTSTART;TZID=America/New_York:20260705T080000
DTEND;TZID=America/New_York:20260705T120000
DTSTAMP:20260421T110317
CREATED:20260326T140953Z
LAST-MODIFIED:20260326T140953Z
UID:10002194-1783238400-1783252800@www.sacketsharborsportsmansclub.com
SUMMARY:Claycrushers Practice
DESCRIPTION:
URL:https://www.sacketsharborsportsmansclub.com/event/claycrushers-practice-2/2026-07-05/
CATEGORIES:Events
END:VEVENT
BEGIN:VEVENT
DTSTART;TZID=America/New_York:20260705T090000
DTEND;TZID=America/New_York:20260705T120000
DTSTAMP:20260421T110317
CREATED:20260325T230617Z
LAST-MODIFIED:20260325T230617Z
UID:10001851-1783242000-1783252800@www.sacketsharborsportsmansclub.com
SUMMARY:Trap Practice
DESCRIPTION:
URL:https://www.sacketsharborsportsmansclub.com/event/trap-practice/2026-07-05/
CATEGORIES:Events
END:VEVENT
BEGIN:VEVENT
DTSTART;TZID=America/New_York:20260708T033000
DTEND;TZID=America/New_York:20260708T210000
DTSTAMP:20260421T110317
CREATED:20260325T230857Z
LAST-MODIFIED:20260325T230857Z
UID:10002112-1783481400-1783544400@www.sacketsharborsportsmansclub.com
SUMMARY:Trap Practice
DESCRIPTION:
URL:https://www.sacketsharborsportsmansclub.com/event/trap-practice-3/2026-07-08/
CATEGORIES:Events
END:VEVENT
BEGIN:VEVENT
DTSTART;TZID=America/New_York:20260709T163000
DTEND;TZID=America/New_York:20260709T210000
DTSTAMP:20260421T110317
CREATED:20260413T162147Z
LAST-MODIFIED:20260413T162147Z
UID:10002262-1783614600-1783630800@www.sacketsharborsportsmansclub.com
SUMMARY:NTTL League Shoot Sackets @ Brownville
DESCRIPTION:
URL:https://www.sacketsharborsportsmansclub.com/event/nttl-league-shoot-sackets-brownville/
CATEGORIES:Events
END:VEVENT
BEGIN:VEVENT
DTSTART;VALUE=DATE:20260711
DTEND;VALUE=DATE:20260712
DTSTAMP:20260421T110317
CREATED:20260217T161413Z
LAST-MODIFIED:20260217T161413Z
UID:10001401-1783728000-1783814399@www.sacketsharborsportsmansclub.com
SUMMARY:Cumoletti/Williams 50 Bird Shoot
DESCRIPTION:
URL:https://www.sacketsharborsportsmansclub.com/event/cumoletti-williams-50-bird-shoot/
CATEGORIES:Events
END:VEVENT
BEGIN:VEVENT
DTSTART;TZID=America/New_York:20260712T080000
DTEND;TZID=America/New_York:20260712T120000
DTSTAMP:20260421T110317
CREATED:20260326T140953Z
LAST-MODIFIED:20260326T140953Z
UID:10002195-1783843200-1783857600@www.sacketsharborsportsmansclub.com
SUMMARY:Claycrushers Practice
DESCRIPTION:
URL:https://www.sacketsharborsportsmansclub.com/event/claycrushers-practice-2/2026-07-12/
CATEGORIES:Events
END:VEVENT
BEGIN:VEVENT
DTSTART;TZID=America/New_York:20260712T090000
DTEND;TZID=America/New_York:20260712T120000
DTSTAMP:20260421T110317
CREATED:20260325T230617Z
LAST-MODIFIED:20260325T230617Z
UID:10001852-1783846800-1783857600@www.sacketsharborsportsmansclub.com
SUMMARY:Trap Practice
DESCRIPTION:
URL:https://www.sacketsharborsportsmansclub.com/event/trap-practice/2026-07-12/
CATEGORIES:Events
END:VEVENT
BEGIN:VEVENT
DTSTART;TZID=America/New_York:20260713T190000
DTEND;TZID=America/New_York:20260713T203000
DTSTAMP:20260421T110317
CREATED:20250820T151007Z
LAST-MODIFIED:20250820T151357Z
UID:10001199-1783969200-1783974600@www.sacketsharborsportsmansclub.com
SUMMARY:Monthly Club Business Meeting.  All members are welcome.
DESCRIPTION:
URL:https://www.sacketsharborsportsmansclub.com/event/monthly-club-business-meeting-all-members-are-welcome-7/2026-07-13/
CATEGORIES:Events
END:VEVENT
BEGIN:VEVENT
DTSTART;TZID=America/New_York:20260715T033000
DTEND;TZID=America/New_York:20260715T210000
DTSTAMP:20260421T110317
CREATED:20260325T230857Z
LAST-MODIFIED:20260325T230857Z
UID:10002113-1784086200-1784149200@www.sacketsharborsportsmansclub.com
SUMMARY:Trap Practice
DESCRIPTION:
URL:https://www.sacketsharborsportsmansclub.com/event/trap-practice-3/2026-07-15/
CATEGORIES:Events
END:VEVENT
END:VCALENDAR