BEGIN:VCALENDAR
VERSION:2.0
PRODID:-//Sackets Harbor Sportsman Club - ECPv6.15.17.1//NONSGML v1.0//EN
CALSCALE:GREGORIAN
METHOD:PUBLISH
X-ORIGINAL-URL:https://www.sacketsharborsportsmansclub.com
X-WR-CALDESC:Events for Sackets Harbor Sportsman Club
REFRESH-INTERVAL;VALUE=DURATION:PT1H
X-Robots-Tag:noindex
X-PUBLISHED-TTL:PT1H
BEGIN:VTIMEZONE
TZID:America/New_York
BEGIN:DAYLIGHT
TZOFFSETFROM:-0500
TZOFFSETTO:-0400
TZNAME:EDT
DTSTART:20260308T070000
END:DAYLIGHT
BEGIN:STANDARD
TZOFFSETFROM:-0400
TZOFFSETTO:-0500
TZNAME:EST
DTSTART:20261101T060000
END:STANDARD
BEGIN:DAYLIGHT
TZOFFSETFROM:-0500
TZOFFSETTO:-0400
TZNAME:EDT
DTSTART:20270314T070000
END:DAYLIGHT
BEGIN:STANDARD
TZOFFSETFROM:-0400
TZOFFSETTO:-0500
TZNAME:EST
DTSTART:20271107T060000
END:STANDARD
BEGIN:DAYLIGHT
TZOFFSETFROM:-0500
TZOFFSETTO:-0400
TZNAME:EDT
DTSTART:20280312T070000
END:DAYLIGHT
BEGIN:STANDARD
TZOFFSETFROM:-0400
TZOFFSETTO:-0500
TZNAME:EST
DTSTART:20281105T060000
END:STANDARD
END:VTIMEZONE
BEGIN:VEVENT
DTSTART;TZID=America/New_York:20270321T090000
DTEND;TZID=America/New_York:20270321T120000
DTSTAMP:20260421T205440
CREATED:20260325T230617Z
LAST-MODIFIED:20260325T230617Z
UID:10001888-1805619600-1805630400@www.sacketsharborsportsmansclub.com
SUMMARY:Trap Practice
DESCRIPTION:
URL:https://www.sacketsharborsportsmansclub.com/event/trap-practice/2027-03-21/
CATEGORIES:Events
END:VEVENT
BEGIN:VEVENT
DTSTART;TZID=America/New_York:20270324T033000
DTEND;TZID=America/New_York:20270324T210000
DTSTAMP:20260421T205440
CREATED:20260325T230857Z
LAST-MODIFIED:20260325T230857Z
UID:10002149-1805859000-1805922000@www.sacketsharborsportsmansclub.com
SUMMARY:Trap Practice
DESCRIPTION:
URL:https://www.sacketsharborsportsmansclub.com/event/trap-practice-3/2027-03-24/
CATEGORIES:Events
END:VEVENT
BEGIN:VEVENT
DTSTART;TZID=America/New_York:20270328T080000
DTEND;TZID=America/New_York:20270328T120000
DTSTAMP:20260421T205440
CREATED:20260326T140953Z
LAST-MODIFIED:20260326T140953Z
UID:10002232-1806220800-1806235200@www.sacketsharborsportsmansclub.com
SUMMARY:Claycrushers Practice
DESCRIPTION:
URL:https://www.sacketsharborsportsmansclub.com/event/claycrushers-practice-2/2027-03-28/
CATEGORIES:Events
END:VEVENT
BEGIN:VEVENT
DTSTART;TZID=America/New_York:20270328T090000
DTEND;TZID=America/New_York:20270328T120000
DTSTAMP:20260421T205440
CREATED:20260325T230617Z
LAST-MODIFIED:20260325T230617Z
UID:10001889-1806224400-1806235200@www.sacketsharborsportsmansclub.com
SUMMARY:Trap Practice
DESCRIPTION:
URL:https://www.sacketsharborsportsmansclub.com/event/trap-practice/2027-03-28/
CATEGORIES:Events
END:VEVENT
BEGIN:VEVENT
DTSTART;TZID=America/New_York:20270331T033000
DTEND;TZID=America/New_York:20270331T210000
DTSTAMP:20260421T205440
CREATED:20260325T230857Z
LAST-MODIFIED:20260325T230857Z
UID:10002150-1806463800-1806526800@www.sacketsharborsportsmansclub.com
SUMMARY:Trap Practice
DESCRIPTION:
URL:https://www.sacketsharborsportsmansclub.com/event/trap-practice-3/2027-03-31/
CATEGORIES:Events
END:VEVENT
BEGIN:VEVENT
DTSTART;TZID=America/New_York:20270404T080000
DTEND;TZID=America/New_York:20270404T120000
DTSTAMP:20260421T205440
CREATED:20260326T140953Z
LAST-MODIFIED:20260326T140953Z
UID:10002233-1806825600-1806840000@www.sacketsharborsportsmansclub.com
SUMMARY:Claycrushers Practice
DESCRIPTION:
URL:https://www.sacketsharborsportsmansclub.com/event/claycrushers-practice-2/2027-04-04/
CATEGORIES:Events
END:VEVENT
BEGIN:VEVENT
DTSTART;TZID=America/New_York:20270404T090000
DTEND;TZID=America/New_York:20270404T120000
DTSTAMP:20260421T205440
CREATED:20260325T230617Z
LAST-MODIFIED:20260325T230617Z
UID:10001890-1806829200-1806840000@www.sacketsharborsportsmansclub.com
SUMMARY:Trap Practice
DESCRIPTION:
URL:https://www.sacketsharborsportsmansclub.com/event/trap-practice/2027-04-04/
CATEGORIES:Events
END:VEVENT
BEGIN:VEVENT
DTSTART;TZID=America/New_York:20270407T033000
DTEND;TZID=America/New_York:20270407T210000
DTSTAMP:20260421T205440
CREATED:20260325T230857Z
LAST-MODIFIED:20260325T230857Z
UID:10002151-1807068600-1807131600@www.sacketsharborsportsmansclub.com
SUMMARY:Trap Practice
DESCRIPTION:
URL:https://www.sacketsharborsportsmansclub.com/event/trap-practice-3/2027-04-07/
CATEGORIES:Events
END:VEVENT
BEGIN:VEVENT
DTSTART;TZID=America/New_York:20270411T080000
DTEND;TZID=America/New_York:20270411T120000
DTSTAMP:20260421T205440
CREATED:20260326T140953Z
LAST-MODIFIED:20260326T140953Z
UID:10002234-1807430400-1807444800@www.sacketsharborsportsmansclub.com
SUMMARY:Claycrushers Practice
DESCRIPTION:
URL:https://www.sacketsharborsportsmansclub.com/event/claycrushers-practice-2/2027-04-11/
CATEGORIES:Events
END:VEVENT
BEGIN:VEVENT
DTSTART;TZID=America/New_York:20270411T090000
DTEND;TZID=America/New_York:20270411T120000
DTSTAMP:20260421T205440
CREATED:20260325T230617Z
LAST-MODIFIED:20260325T230617Z
UID:10001891-1807434000-1807444800@www.sacketsharborsportsmansclub.com
SUMMARY:Trap Practice
DESCRIPTION:
URL:https://www.sacketsharborsportsmansclub.com/event/trap-practice/2027-04-11/
CATEGORIES:Events
END:VEVENT
BEGIN:VEVENT
DTSTART;TZID=America/New_York:20270412T190000
DTEND;TZID=America/New_York:20270412T203000
DTSTAMP:20260421T205440
CREATED:20250820T151007Z
LAST-MODIFIED:20250820T151357Z
UID:10001208-1807556400-1807561800@www.sacketsharborsportsmansclub.com
SUMMARY:Monthly Club Business Meeting.  All members are welcome.
DESCRIPTION:
URL:https://www.sacketsharborsportsmansclub.com/event/monthly-club-business-meeting-all-members-are-welcome-7/2027-04-12/
CATEGORIES:Events
END:VEVENT
BEGIN:VEVENT
DTSTART;TZID=America/New_York:20270414T033000
DTEND;TZID=America/New_York:20270414T210000
DTSTAMP:20260421T205440
CREATED:20260325T230857Z
LAST-MODIFIED:20260325T230857Z
UID:10002152-1807673400-1807736400@www.sacketsharborsportsmansclub.com
SUMMARY:Trap Practice
DESCRIPTION:
URL:https://www.sacketsharborsportsmansclub.com/event/trap-practice-3/2027-04-14/
CATEGORIES:Events
END:VEVENT
BEGIN:VEVENT
DTSTART;TZID=America/New_York:20270418T080000
DTEND;TZID=America/New_York:20270418T120000
DTSTAMP:20260421T205440
CREATED:20260326T140953Z
LAST-MODIFIED:20260326T140953Z
UID:10002235-1808035200-1808049600@www.sacketsharborsportsmansclub.com
SUMMARY:Claycrushers Practice
DESCRIPTION:
URL:https://www.sacketsharborsportsmansclub.com/event/claycrushers-practice-2/2027-04-18/
CATEGORIES:Events
END:VEVENT
BEGIN:VEVENT
DTSTART;TZID=America/New_York:20270418T090000
DTEND;TZID=America/New_York:20270418T120000
DTSTAMP:20260421T205440
CREATED:20260325T230617Z
LAST-MODIFIED:20260325T230617Z
UID:10001892-1808038800-1808049600@www.sacketsharborsportsmansclub.com
SUMMARY:Trap Practice
DESCRIPTION:
URL:https://www.sacketsharborsportsmansclub.com/event/trap-practice/2027-04-18/
CATEGORIES:Events
END:VEVENT
BEGIN:VEVENT
DTSTART;TZID=America/New_York:20270421T033000
DTEND;TZID=America/New_York:20270421T210000
DTSTAMP:20260421T205440
CREATED:20260325T230857Z
LAST-MODIFIED:20260325T230857Z
UID:10002153-1808278200-1808341200@www.sacketsharborsportsmansclub.com
SUMMARY:Trap Practice
DESCRIPTION:
URL:https://www.sacketsharborsportsmansclub.com/event/trap-practice-3/2027-04-21/
CATEGORIES:Events
END:VEVENT
BEGIN:VEVENT
DTSTART;TZID=America/New_York:20270425T080000
DTEND;TZID=America/New_York:20270425T120000
DTSTAMP:20260421T205440
CREATED:20260326T140953Z
LAST-MODIFIED:20260326T140953Z
UID:10002236-1808640000-1808654400@www.sacketsharborsportsmansclub.com
SUMMARY:Claycrushers Practice
DESCRIPTION:
URL:https://www.sacketsharborsportsmansclub.com/event/claycrushers-practice-2/2027-04-25/
CATEGORIES:Events
END:VEVENT
BEGIN:VEVENT
DTSTART;TZID=America/New_York:20270425T090000
DTEND;TZID=America/New_York:20270425T120000
DTSTAMP:20260421T205440
CREATED:20260325T230617Z
LAST-MODIFIED:20260325T230617Z
UID:10001893-1808643600-1808654400@www.sacketsharborsportsmansclub.com
SUMMARY:Trap Practice
DESCRIPTION:
URL:https://www.sacketsharborsportsmansclub.com/event/trap-practice/2027-04-25/
CATEGORIES:Events
END:VEVENT
BEGIN:VEVENT
DTSTART;TZID=America/New_York:20270428T033000
DTEND;TZID=America/New_York:20270428T210000
DTSTAMP:20260421T205440
CREATED:20260325T230857Z
LAST-MODIFIED:20260325T230857Z
UID:10002154-1808883000-1808946000@www.sacketsharborsportsmansclub.com
SUMMARY:Trap Practice
DESCRIPTION:
URL:https://www.sacketsharborsportsmansclub.com/event/trap-practice-3/2027-04-28/
CATEGORIES:Events
END:VEVENT
BEGIN:VEVENT
DTSTART;TZID=America/New_York:20270502T080000
DTEND;TZID=America/New_York:20270502T120000
DTSTAMP:20260421T205440
CREATED:20260326T140953Z
LAST-MODIFIED:20260326T140953Z
UID:10002237-1809244800-1809259200@www.sacketsharborsportsmansclub.com
SUMMARY:Claycrushers Practice
DESCRIPTION:
URL:https://www.sacketsharborsportsmansclub.com/event/claycrushers-practice-2/2027-05-02/
CATEGORIES:Events
END:VEVENT
BEGIN:VEVENT
DTSTART;TZID=America/New_York:20270502T090000
DTEND;TZID=America/New_York:20270502T120000
DTSTAMP:20260421T205440
CREATED:20260325T230617Z
LAST-MODIFIED:20260325T230617Z
UID:10001894-1809248400-1809259200@www.sacketsharborsportsmansclub.com
SUMMARY:Trap Practice
DESCRIPTION:
URL:https://www.sacketsharborsportsmansclub.com/event/trap-practice/2027-05-02/
CATEGORIES:Events
END:VEVENT
BEGIN:VEVENT
DTSTART;TZID=America/New_York:20270505T033000
DTEND;TZID=America/New_York:20270505T210000
DTSTAMP:20260421T205440
CREATED:20260325T230857Z
LAST-MODIFIED:20260325T230857Z
UID:10002155-1809487800-1809550800@www.sacketsharborsportsmansclub.com
SUMMARY:Trap Practice
DESCRIPTION:
URL:https://www.sacketsharborsportsmansclub.com/event/trap-practice-3/2027-05-05/
CATEGORIES:Events
END:VEVENT
BEGIN:VEVENT
DTSTART;TZID=America/New_York:20270509T080000
DTEND;TZID=America/New_York:20270509T120000
DTSTAMP:20260421T205440
CREATED:20260326T140953Z
LAST-MODIFIED:20260326T140953Z
UID:10002238-1809849600-1809864000@www.sacketsharborsportsmansclub.com
SUMMARY:Claycrushers Practice
DESCRIPTION:
URL:https://www.sacketsharborsportsmansclub.com/event/claycrushers-practice-2/2027-05-09/
CATEGORIES:Events
END:VEVENT
BEGIN:VEVENT
DTSTART;TZID=America/New_York:20270509T090000
DTEND;TZID=America/New_York:20270509T120000
DTSTAMP:20260421T205440
CREATED:20260325T230617Z
LAST-MODIFIED:20260325T230617Z
UID:10001895-1809853200-1809864000@www.sacketsharborsportsmansclub.com
SUMMARY:Trap Practice
DESCRIPTION:
URL:https://www.sacketsharborsportsmansclub.com/event/trap-practice/2027-05-09/
CATEGORIES:Events
END:VEVENT
BEGIN:VEVENT
DTSTART;TZID=America/New_York:20270510T190000
DTEND;TZID=America/New_York:20270510T203000
DTSTAMP:20260421T205440
CREATED:20250820T151007Z
LAST-MODIFIED:20250820T151357Z
UID:10001209-1809975600-1809981000@www.sacketsharborsportsmansclub.com
SUMMARY:Monthly Club Business Meeting.  All members are welcome.
DESCRIPTION:
URL:https://www.sacketsharborsportsmansclub.com/event/monthly-club-business-meeting-all-members-are-welcome-7/2027-05-10/
CATEGORIES:Events
END:VEVENT
BEGIN:VEVENT
DTSTART;TZID=America/New_York:20270512T033000
DTEND;TZID=America/New_York:20270512T210000
DTSTAMP:20260421T205440
CREATED:20260325T230857Z
LAST-MODIFIED:20260325T230857Z
UID:10002156-1810092600-1810155600@www.sacketsharborsportsmansclub.com
SUMMARY:Trap Practice
DESCRIPTION:
URL:https://www.sacketsharborsportsmansclub.com/event/trap-practice-3/2027-05-12/
CATEGORIES:Events
END:VEVENT
BEGIN:VEVENT
DTSTART;TZID=America/New_York:20270516T080000
DTEND;TZID=America/New_York:20270516T120000
DTSTAMP:20260421T205440
CREATED:20260326T140953Z
LAST-MODIFIED:20260326T140953Z
UID:10002239-1810454400-1810468800@www.sacketsharborsportsmansclub.com
SUMMARY:Claycrushers Practice
DESCRIPTION:
URL:https://www.sacketsharborsportsmansclub.com/event/claycrushers-practice-2/2027-05-16/
CATEGORIES:Events
END:VEVENT
BEGIN:VEVENT
DTSTART;TZID=America/New_York:20270516T090000
DTEND;TZID=America/New_York:20270516T120000
DTSTAMP:20260421T205440
CREATED:20260325T230617Z
LAST-MODIFIED:20260325T230617Z
UID:10001896-1810458000-1810468800@www.sacketsharborsportsmansclub.com
SUMMARY:Trap Practice
DESCRIPTION:
URL:https://www.sacketsharborsportsmansclub.com/event/trap-practice/2027-05-16/
CATEGORIES:Events
END:VEVENT
BEGIN:VEVENT
DTSTART;TZID=America/New_York:20270519T033000
DTEND;TZID=America/New_York:20270519T210000
DTSTAMP:20260421T205440
CREATED:20260325T230857Z
LAST-MODIFIED:20260325T230857Z
UID:10002157-1810697400-1810760400@www.sacketsharborsportsmansclub.com
SUMMARY:Trap Practice
DESCRIPTION:
URL:https://www.sacketsharborsportsmansclub.com/event/trap-practice-3/2027-05-19/
CATEGORIES:Events
END:VEVENT
BEGIN:VEVENT
DTSTART;TZID=America/New_York:20270523T080000
DTEND;TZID=America/New_York:20270523T120000
DTSTAMP:20260421T205440
CREATED:20260326T140953Z
LAST-MODIFIED:20260326T140953Z
UID:10002240-1811059200-1811073600@www.sacketsharborsportsmansclub.com
SUMMARY:Claycrushers Practice
DESCRIPTION:
URL:https://www.sacketsharborsportsmansclub.com/event/claycrushers-practice-2/2027-05-23/
CATEGORIES:Events
END:VEVENT
BEGIN:VEVENT
DTSTART;TZID=America/New_York:20270523T090000
DTEND;TZID=America/New_York:20270523T120000
DTSTAMP:20260421T205440
CREATED:20260325T230617Z
LAST-MODIFIED:20260325T230617Z
UID:10001897-1811062800-1811073600@www.sacketsharborsportsmansclub.com
SUMMARY:Trap Practice
DESCRIPTION:
URL:https://www.sacketsharborsportsmansclub.com/event/trap-practice/2027-05-23/
CATEGORIES:Events
END:VEVENT
END:VCALENDAR