BEGIN:VCALENDAR
VERSION:2.0
PRODID:-//Sackets Harbor Sportsman Club - ECPv6.15.17.1//NONSGML v1.0//EN
CALSCALE:GREGORIAN
METHOD:PUBLISH
X-ORIGINAL-URL:https://www.sacketsharborsportsmansclub.com
X-WR-CALDESC:Events for Sackets Harbor Sportsman Club
REFRESH-INTERVAL;VALUE=DURATION:PT1H
X-Robots-Tag:noindex
X-PUBLISHED-TTL:PT1H
BEGIN:VTIMEZONE
TZID:America/New_York
BEGIN:DAYLIGHT
TZOFFSETFROM:-0500
TZOFFSETTO:-0400
TZNAME:EDT
DTSTART:20250309T070000
END:DAYLIGHT
BEGIN:STANDARD
TZOFFSETFROM:-0400
TZOFFSETTO:-0500
TZNAME:EST
DTSTART:20251102T060000
END:STANDARD
BEGIN:DAYLIGHT
TZOFFSETFROM:-0500
TZOFFSETTO:-0400
TZNAME:EDT
DTSTART:20260308T070000
END:DAYLIGHT
BEGIN:STANDARD
TZOFFSETFROM:-0400
TZOFFSETTO:-0500
TZNAME:EST
DTSTART:20261101T060000
END:STANDARD
BEGIN:DAYLIGHT
TZOFFSETFROM:-0500
TZOFFSETTO:-0400
TZNAME:EDT
DTSTART:20270314T070000
END:DAYLIGHT
BEGIN:STANDARD
TZOFFSETFROM:-0400
TZOFFSETTO:-0500
TZNAME:EST
DTSTART:20271107T060000
END:STANDARD
BEGIN:DAYLIGHT
TZOFFSETFROM:-0500
TZOFFSETTO:-0400
TZNAME:EDT
DTSTART:20280312T070000
END:DAYLIGHT
BEGIN:STANDARD
TZOFFSETFROM:-0400
TZOFFSETTO:-0500
TZNAME:EST
DTSTART:20281105T060000
END:STANDARD
END:VTIMEZONE
BEGIN:VEVENT
DTSTART;TZID=America/New_York:20261213T090000
DTEND;TZID=America/New_York:20261213T120000
DTSTAMP:20260421T212110
CREATED:20260325T230617Z
LAST-MODIFIED:20260325T230617Z
UID:10001874-1797152400-1797163200@www.sacketsharborsportsmansclub.com
SUMMARY:Trap Practice
DESCRIPTION:
URL:https://www.sacketsharborsportsmansclub.com/event/trap-practice/2026-12-13/
CATEGORIES:Events
END:VEVENT
BEGIN:VEVENT
DTSTART;TZID=America/New_York:20261214T190000
DTEND;TZID=America/New_York:20261214T203000
DTSTAMP:20260421T212110
CREATED:20250820T151007Z
LAST-MODIFIED:20250820T151357Z
UID:10001204-1797274800-1797280200@www.sacketsharborsportsmansclub.com
SUMMARY:Monthly Club Business Meeting.  All members are welcome.
DESCRIPTION:
URL:https://www.sacketsharborsportsmansclub.com/event/monthly-club-business-meeting-all-members-are-welcome-7/2026-12-14/
CATEGORIES:Events
END:VEVENT
BEGIN:VEVENT
DTSTART;TZID=America/New_York:20261216T033000
DTEND;TZID=America/New_York:20261216T210000
DTSTAMP:20260421T212110
CREATED:20260325T230857Z
LAST-MODIFIED:20260325T230857Z
UID:10002135-1797391800-1797454800@www.sacketsharborsportsmansclub.com
SUMMARY:Trap Practice
DESCRIPTION:
URL:https://www.sacketsharborsportsmansclub.com/event/trap-practice-3/2026-12-16/
CATEGORIES:Events
END:VEVENT
BEGIN:VEVENT
DTSTART;TZID=America/New_York:20261220T080000
DTEND;TZID=America/New_York:20261220T120000
DTSTAMP:20260421T212110
CREATED:20260326T140953Z
LAST-MODIFIED:20260326T140953Z
UID:10002218-1797753600-1797768000@www.sacketsharborsportsmansclub.com
SUMMARY:Claycrushers Practice
DESCRIPTION:
URL:https://www.sacketsharborsportsmansclub.com/event/claycrushers-practice-2/2026-12-20/
CATEGORIES:Events
END:VEVENT
BEGIN:VEVENT
DTSTART;TZID=America/New_York:20261220T090000
DTEND;TZID=America/New_York:20261220T120000
DTSTAMP:20260421T212110
CREATED:20260325T230617Z
LAST-MODIFIED:20260325T230617Z
UID:10001875-1797757200-1797768000@www.sacketsharborsportsmansclub.com
SUMMARY:Trap Practice
DESCRIPTION:
URL:https://www.sacketsharborsportsmansclub.com/event/trap-practice/2026-12-20/
CATEGORIES:Events
END:VEVENT
BEGIN:VEVENT
DTSTART;TZID=America/New_York:20261223T033000
DTEND;TZID=America/New_York:20261223T210000
DTSTAMP:20260421T212110
CREATED:20260325T230857Z
LAST-MODIFIED:20260325T230857Z
UID:10002136-1797996600-1798059600@www.sacketsharborsportsmansclub.com
SUMMARY:Trap Practice
DESCRIPTION:
URL:https://www.sacketsharborsportsmansclub.com/event/trap-practice-3/2026-12-23/
CATEGORIES:Events
END:VEVENT
BEGIN:VEVENT
DTSTART;TZID=America/New_York:20261227T080000
DTEND;TZID=America/New_York:20261227T120000
DTSTAMP:20260421T212110
CREATED:20260326T140953Z
LAST-MODIFIED:20260326T140953Z
UID:10002219-1798358400-1798372800@www.sacketsharborsportsmansclub.com
SUMMARY:Claycrushers Practice
DESCRIPTION:
URL:https://www.sacketsharborsportsmansclub.com/event/claycrushers-practice-2/2026-12-27/
CATEGORIES:Events
END:VEVENT
BEGIN:VEVENT
DTSTART;TZID=America/New_York:20261227T090000
DTEND;TZID=America/New_York:20261227T120000
DTSTAMP:20260421T212110
CREATED:20260325T230617Z
LAST-MODIFIED:20260325T230617Z
UID:10001876-1798362000-1798372800@www.sacketsharborsportsmansclub.com
SUMMARY:Trap Practice
DESCRIPTION:
URL:https://www.sacketsharborsportsmansclub.com/event/trap-practice/2026-12-27/
CATEGORIES:Events
END:VEVENT
BEGIN:VEVENT
DTSTART;TZID=America/New_York:20261230T033000
DTEND;TZID=America/New_York:20261230T210000
DTSTAMP:20260421T212110
CREATED:20260325T230857Z
LAST-MODIFIED:20260325T230857Z
UID:10002137-1798601400-1798664400@www.sacketsharborsportsmansclub.com
SUMMARY:Trap Practice
DESCRIPTION:
URL:https://www.sacketsharborsportsmansclub.com/event/trap-practice-3/2026-12-30/
CATEGORIES:Events
END:VEVENT
BEGIN:VEVENT
DTSTART;TZID=America/New_York:20270103T080000
DTEND;TZID=America/New_York:20270103T120000
DTSTAMP:20260421T212110
CREATED:20260326T140953Z
LAST-MODIFIED:20260326T140953Z
UID:10002220-1798963200-1798977600@www.sacketsharborsportsmansclub.com
SUMMARY:Claycrushers Practice
DESCRIPTION:
URL:https://www.sacketsharborsportsmansclub.com/event/claycrushers-practice-2/2027-01-03/
CATEGORIES:Events
END:VEVENT
BEGIN:VEVENT
DTSTART;TZID=America/New_York:20270103T090000
DTEND;TZID=America/New_York:20270103T120000
DTSTAMP:20260421T212110
CREATED:20260325T230617Z
LAST-MODIFIED:20260325T230617Z
UID:10001877-1798966800-1798977600@www.sacketsharborsportsmansclub.com
SUMMARY:Trap Practice
DESCRIPTION:
URL:https://www.sacketsharborsportsmansclub.com/event/trap-practice/2027-01-03/
CATEGORIES:Events
END:VEVENT
BEGIN:VEVENT
DTSTART;TZID=America/New_York:20270106T033000
DTEND;TZID=America/New_York:20270106T210000
DTSTAMP:20260421T212110
CREATED:20260325T230857Z
LAST-MODIFIED:20260325T230857Z
UID:10002138-1799206200-1799269200@www.sacketsharborsportsmansclub.com
SUMMARY:Trap Practice
DESCRIPTION:
URL:https://www.sacketsharborsportsmansclub.com/event/trap-practice-3/2027-01-06/
CATEGORIES:Events
END:VEVENT
BEGIN:VEVENT
DTSTART;TZID=America/New_York:20270110T080000
DTEND;TZID=America/New_York:20270110T120000
DTSTAMP:20260421T212110
CREATED:20260326T140953Z
LAST-MODIFIED:20260326T140953Z
UID:10002221-1799568000-1799582400@www.sacketsharborsportsmansclub.com
SUMMARY:Claycrushers Practice
DESCRIPTION:
URL:https://www.sacketsharborsportsmansclub.com/event/claycrushers-practice-2/2027-01-10/
CATEGORIES:Events
END:VEVENT
BEGIN:VEVENT
DTSTART;TZID=America/New_York:20270110T090000
DTEND;TZID=America/New_York:20270110T120000
DTSTAMP:20260421T212110
CREATED:20260325T230617Z
LAST-MODIFIED:20260325T230617Z
UID:10001878-1799571600-1799582400@www.sacketsharborsportsmansclub.com
SUMMARY:Trap Practice
DESCRIPTION:
URL:https://www.sacketsharborsportsmansclub.com/event/trap-practice/2027-01-10/
CATEGORIES:Events
END:VEVENT
BEGIN:VEVENT
DTSTART;TZID=America/New_York:20270111T190000
DTEND;TZID=America/New_York:20270111T203000
DTSTAMP:20260421T212110
CREATED:20250820T151007Z
LAST-MODIFIED:20250820T151357Z
UID:10001205-1799694000-1799699400@www.sacketsharborsportsmansclub.com
SUMMARY:Monthly Club Business Meeting.  All members are welcome.
DESCRIPTION:
URL:https://www.sacketsharborsportsmansclub.com/event/monthly-club-business-meeting-all-members-are-welcome-7/2027-01-11/
CATEGORIES:Events
END:VEVENT
BEGIN:VEVENT
DTSTART;TZID=America/New_York:20270113T033000
DTEND;TZID=America/New_York:20270113T210000
DTSTAMP:20260421T212110
CREATED:20260325T230857Z
LAST-MODIFIED:20260325T230857Z
UID:10002139-1799811000-1799874000@www.sacketsharborsportsmansclub.com
SUMMARY:Trap Practice
DESCRIPTION:
URL:https://www.sacketsharborsportsmansclub.com/event/trap-practice-3/2027-01-13/
CATEGORIES:Events
END:VEVENT
BEGIN:VEVENT
DTSTART;TZID=America/New_York:20270117T080000
DTEND;TZID=America/New_York:20270117T120000
DTSTAMP:20260421T212110
CREATED:20260326T140953Z
LAST-MODIFIED:20260326T140953Z
UID:10002222-1800172800-1800187200@www.sacketsharborsportsmansclub.com
SUMMARY:Claycrushers Practice
DESCRIPTION:
URL:https://www.sacketsharborsportsmansclub.com/event/claycrushers-practice-2/2027-01-17/
CATEGORIES:Events
END:VEVENT
BEGIN:VEVENT
DTSTART;TZID=America/New_York:20270117T090000
DTEND;TZID=America/New_York:20270117T120000
DTSTAMP:20260421T212110
CREATED:20260325T230617Z
LAST-MODIFIED:20260325T230617Z
UID:10001879-1800176400-1800187200@www.sacketsharborsportsmansclub.com
SUMMARY:Trap Practice
DESCRIPTION:
URL:https://www.sacketsharborsportsmansclub.com/event/trap-practice/2027-01-17/
CATEGORIES:Events
END:VEVENT
BEGIN:VEVENT
DTSTART;TZID=America/New_York:20270120T033000
DTEND;TZID=America/New_York:20270120T210000
DTSTAMP:20260421T212110
CREATED:20260325T230857Z
LAST-MODIFIED:20260325T230857Z
UID:10002140-1800415800-1800478800@www.sacketsharborsportsmansclub.com
SUMMARY:Trap Practice
DESCRIPTION:
URL:https://www.sacketsharborsportsmansclub.com/event/trap-practice-3/2027-01-20/
CATEGORIES:Events
END:VEVENT
BEGIN:VEVENT
DTSTART;TZID=America/New_York:20270124T080000
DTEND;TZID=America/New_York:20270124T120000
DTSTAMP:20260421T212110
CREATED:20260326T140953Z
LAST-MODIFIED:20260326T140953Z
UID:10002223-1800777600-1800792000@www.sacketsharborsportsmansclub.com
SUMMARY:Claycrushers Practice
DESCRIPTION:
URL:https://www.sacketsharborsportsmansclub.com/event/claycrushers-practice-2/2027-01-24/
CATEGORIES:Events
END:VEVENT
BEGIN:VEVENT
DTSTART;TZID=America/New_York:20270124T090000
DTEND;TZID=America/New_York:20270124T120000
DTSTAMP:20260421T212110
CREATED:20260325T230617Z
LAST-MODIFIED:20260325T230617Z
UID:10001880-1800781200-1800792000@www.sacketsharborsportsmansclub.com
SUMMARY:Trap Practice
DESCRIPTION:
URL:https://www.sacketsharborsportsmansclub.com/event/trap-practice/2027-01-24/
CATEGORIES:Events
END:VEVENT
BEGIN:VEVENT
DTSTART;TZID=America/New_York:20270127T033000
DTEND;TZID=America/New_York:20270127T210000
DTSTAMP:20260421T212110
CREATED:20260325T230857Z
LAST-MODIFIED:20260325T230857Z
UID:10002141-1801020600-1801083600@www.sacketsharborsportsmansclub.com
SUMMARY:Trap Practice
DESCRIPTION:
URL:https://www.sacketsharborsportsmansclub.com/event/trap-practice-3/2027-01-27/
CATEGORIES:Events
END:VEVENT
BEGIN:VEVENT
DTSTART;TZID=America/New_York:20270131T080000
DTEND;TZID=America/New_York:20270131T120000
DTSTAMP:20260421T212110
CREATED:20260326T140953Z
LAST-MODIFIED:20260326T140953Z
UID:10002224-1801382400-1801396800@www.sacketsharborsportsmansclub.com
SUMMARY:Claycrushers Practice
DESCRIPTION:
URL:https://www.sacketsharborsportsmansclub.com/event/claycrushers-practice-2/2027-01-31/
CATEGORIES:Events
END:VEVENT
BEGIN:VEVENT
DTSTART;TZID=America/New_York:20270131T090000
DTEND;TZID=America/New_York:20270131T120000
DTSTAMP:20260421T212110
CREATED:20260325T230617Z
LAST-MODIFIED:20260325T230617Z
UID:10001881-1801386000-1801396800@www.sacketsharborsportsmansclub.com
SUMMARY:Trap Practice
DESCRIPTION:
URL:https://www.sacketsharborsportsmansclub.com/event/trap-practice/2027-01-31/
CATEGORIES:Events
END:VEVENT
BEGIN:VEVENT
DTSTART;TZID=America/New_York:20270203T033000
DTEND;TZID=America/New_York:20270203T210000
DTSTAMP:20260421T212110
CREATED:20260325T230857Z
LAST-MODIFIED:20260325T230857Z
UID:10002142-1801625400-1801688400@www.sacketsharborsportsmansclub.com
SUMMARY:Trap Practice
DESCRIPTION:
URL:https://www.sacketsharborsportsmansclub.com/event/trap-practice-3/2027-02-03/
CATEGORIES:Events
END:VEVENT
BEGIN:VEVENT
DTSTART;TZID=America/New_York:20270207T080000
DTEND;TZID=America/New_York:20270207T120000
DTSTAMP:20260421T212110
CREATED:20260326T140953Z
LAST-MODIFIED:20260326T140953Z
UID:10002225-1801987200-1802001600@www.sacketsharborsportsmansclub.com
SUMMARY:Claycrushers Practice
DESCRIPTION:
URL:https://www.sacketsharborsportsmansclub.com/event/claycrushers-practice-2/2027-02-07/
CATEGORIES:Events
END:VEVENT
BEGIN:VEVENT
DTSTART;TZID=America/New_York:20270207T090000
DTEND;TZID=America/New_York:20270207T120000
DTSTAMP:20260421T212110
CREATED:20260325T230617Z
LAST-MODIFIED:20260325T230617Z
UID:10001882-1801990800-1802001600@www.sacketsharborsportsmansclub.com
SUMMARY:Trap Practice
DESCRIPTION:
URL:https://www.sacketsharborsportsmansclub.com/event/trap-practice/2027-02-07/
CATEGORIES:Events
END:VEVENT
BEGIN:VEVENT
DTSTART;TZID=America/New_York:20270208T190000
DTEND;TZID=America/New_York:20270208T203000
DTSTAMP:20260421T212110
CREATED:20250820T151007Z
LAST-MODIFIED:20250820T151357Z
UID:10001206-1802113200-1802118600@www.sacketsharborsportsmansclub.com
SUMMARY:Monthly Club Business Meeting.  All members are welcome.
DESCRIPTION:
URL:https://www.sacketsharborsportsmansclub.com/event/monthly-club-business-meeting-all-members-are-welcome-7/2027-02-08/
CATEGORIES:Events
END:VEVENT
BEGIN:VEVENT
DTSTART;TZID=America/New_York:20270210T033000
DTEND;TZID=America/New_York:20270210T210000
DTSTAMP:20260421T212110
CREATED:20260325T230857Z
LAST-MODIFIED:20260325T230857Z
UID:10002143-1802230200-1802293200@www.sacketsharborsportsmansclub.com
SUMMARY:Trap Practice
DESCRIPTION:
URL:https://www.sacketsharborsportsmansclub.com/event/trap-practice-3/2027-02-10/
CATEGORIES:Events
END:VEVENT
BEGIN:VEVENT
DTSTART;TZID=America/New_York:20270214T080000
DTEND;TZID=America/New_York:20270214T120000
DTSTAMP:20260421T212110
CREATED:20260326T140953Z
LAST-MODIFIED:20260326T140953Z
UID:10002226-1802592000-1802606400@www.sacketsharborsportsmansclub.com
SUMMARY:Claycrushers Practice
DESCRIPTION:
URL:https://www.sacketsharborsportsmansclub.com/event/claycrushers-practice-2/2027-02-14/
CATEGORIES:Events
END:VEVENT
END:VCALENDAR