BEGIN:VCALENDAR
VERSION:2.0
PRODID:-//Sackets Harbor Sportsman Club - ECPv6.15.17.1//NONSGML v1.0//EN
CALSCALE:GREGORIAN
METHOD:PUBLISH
X-WR-CALNAME:Sackets Harbor Sportsman Club
X-ORIGINAL-URL:https://www.sacketsharborsportsmansclub.com
X-WR-CALDESC:Events for Sackets Harbor Sportsman Club
REFRESH-INTERVAL;VALUE=DURATION:PT1H
X-Robots-Tag:noindex
X-PUBLISHED-TTL:PT1H
BEGIN:VTIMEZONE
TZID:America/New_York
BEGIN:DAYLIGHT
TZOFFSETFROM:-0500
TZOFFSETTO:-0400
TZNAME:EDT
DTSTART:20250309T070000
END:DAYLIGHT
BEGIN:STANDARD
TZOFFSETFROM:-0400
TZOFFSETTO:-0500
TZNAME:EST
DTSTART:20251102T060000
END:STANDARD
BEGIN:DAYLIGHT
TZOFFSETFROM:-0500
TZOFFSETTO:-0400
TZNAME:EDT
DTSTART:20260308T070000
END:DAYLIGHT
BEGIN:STANDARD
TZOFFSETFROM:-0400
TZOFFSETTO:-0500
TZNAME:EST
DTSTART:20261101T060000
END:STANDARD
BEGIN:DAYLIGHT
TZOFFSETFROM:-0500
TZOFFSETTO:-0400
TZNAME:EDT
DTSTART:20270314T070000
END:DAYLIGHT
BEGIN:STANDARD
TZOFFSETFROM:-0400
TZOFFSETTO:-0500
TZNAME:EST
DTSTART:20271107T060000
END:STANDARD
END:VTIMEZONE
BEGIN:VEVENT
DTSTART;TZID=America/New_York:20260426T090000
DTEND;TZID=America/New_York:20260426T120000
DTSTAMP:20260421T141611
CREATED:20260411T230102Z
LAST-MODIFIED:20260411T230102Z
UID:10002249-1777194000-1777204800@www.sacketsharborsportsmansclub.com
SUMMARY:Range 3 & 4 Closed
DESCRIPTION:
URL:https://www.sacketsharborsportsmansclub.com/event/range-3-4-closed/2026-04-26/
CATEGORIES:Events
END:VEVENT
BEGIN:VEVENT
DTSTART;TZID=America/New_York:20260426T090000
DTEND;TZID=America/New_York:20260426T120000
DTSTAMP:20260421T141611
CREATED:20260325T230617Z
LAST-MODIFIED:20260325T230617Z
UID:10001841-1777194000-1777204800@www.sacketsharborsportsmansclub.com
SUMMARY:Trap Practice
DESCRIPTION:
URL:https://www.sacketsharborsportsmansclub.com/event/trap-practice/2026-04-26/
CATEGORIES:Events
END:VEVENT
BEGIN:VEVENT
DTSTART;TZID=America/New_York:20260426T080000
DTEND;TZID=America/New_York:20260426T120000
DTSTAMP:20260421T141611
CREATED:20260326T140953Z
LAST-MODIFIED:20260326T140953Z
UID:10002184-1777190400-1777204800@www.sacketsharborsportsmansclub.com
SUMMARY:Claycrushers Practice
DESCRIPTION:
URL:https://www.sacketsharborsportsmansclub.com/event/claycrushers-practice-2/2026-04-26/
CATEGORIES:Events
END:VEVENT
BEGIN:VEVENT
DTSTART;TZID=America/New_York:20260425T090000
DTEND;TZID=America/New_York:20260425T140000
DTSTAMP:20260421T141611
CREATED:20260411T230102Z
LAST-MODIFIED:20260411T230102Z
UID:10002248-1777107600-1777125600@www.sacketsharborsportsmansclub.com
SUMMARY:Range 3 & 4 Closed
DESCRIPTION:
URL:https://www.sacketsharborsportsmansclub.com/event/range-3-4-closed/2026-04-25/
CATEGORIES:Events
END:VEVENT
BEGIN:VEVENT
DTSTART;TZID=America/New_York:20260423T163000
DTEND;TZID=America/New_York:20260423T210000
DTSTAMP:20260421T141611
CREATED:20260413T155055Z
LAST-MODIFIED:20260413T155055Z
UID:10002251-1776961800-1776978000@www.sacketsharborsportsmansclub.com
SUMMARY:NTTL League Shoot Brownville @ Sackets
DESCRIPTION:
URL:https://www.sacketsharborsportsmansclub.com/event/nttl-league-shoot-brownville-sackets/
CATEGORIES:Events
END:VEVENT
BEGIN:VEVENT
DTSTART;TZID=America/New_York:20260423T100000
DTEND;TZID=America/New_York:20260423T123000
DTSTAMP:20260421T141611
CREATED:20260420T195219Z
LAST-MODIFIED:20260420T195307Z
UID:10002280-1776938400-1776947400@www.sacketsharborsportsmansclub.com
SUMMARY:Lower Range Reserved JCC
DESCRIPTION:
URL:https://www.sacketsharborsportsmansclub.com/event/lower-range-closed/
CATEGORIES:Events
END:VEVENT
BEGIN:VEVENT
DTSTART;TZID=America/New_York:20260422T033000
DTEND;TZID=America/New_York:20260422T210000
DTSTAMP:20260421T141611
CREATED:20260325T230857Z
LAST-MODIFIED:20260325T230857Z
UID:10002101-1776828600-1776891600@www.sacketsharborsportsmansclub.com
SUMMARY:Trap Practice
DESCRIPTION:
URL:https://www.sacketsharborsportsmansclub.com/event/trap-practice-3/2026-04-22/
CATEGORIES:Events
END:VEVENT
BEGIN:VEVENT
DTSTART;TZID=America/New_York:20260419T090000
DTEND;TZID=America/New_York:20260419T140000
DTSTAMP:20260421T141611
CREATED:20260411T230102Z
LAST-MODIFIED:20260411T230102Z
UID:10002247-1776589200-1776607200@www.sacketsharborsportsmansclub.com
SUMMARY:Range 3 & 4 Closed
DESCRIPTION:
URL:https://www.sacketsharborsportsmansclub.com/event/range-3-4-closed/2026-04-19/
CATEGORIES:Events
END:VEVENT
BEGIN:VEVENT
DTSTART;TZID=America/New_York:20260419T090000
DTEND;TZID=America/New_York:20260419T120000
DTSTAMP:20260421T141611
CREATED:20260325T230617Z
LAST-MODIFIED:20260325T230617Z
UID:10001840-1776589200-1776600000@www.sacketsharborsportsmansclub.com
SUMMARY:Trap Practice
DESCRIPTION:
URL:https://www.sacketsharborsportsmansclub.com/event/trap-practice/2026-04-19/
CATEGORIES:Events
END:VEVENT
BEGIN:VEVENT
DTSTART;TZID=America/New_York:20260419T080000
DTEND;TZID=America/New_York:20260419T120000
DTSTAMP:20260421T141611
CREATED:20260326T140953Z
LAST-MODIFIED:20260326T140953Z
UID:10002183-1776585600-1776600000@www.sacketsharborsportsmansclub.com
SUMMARY:Claycrushers Practice
DESCRIPTION:
URL:https://www.sacketsharborsportsmansclub.com/event/claycrushers-practice-2/2026-04-19/
CATEGORIES:Events
END:VEVENT
BEGIN:VEVENT
DTSTART;TZID=America/New_York:20260418T090000
DTEND;TZID=America/New_York:20260418T140000
DTSTAMP:20260421T141611
CREATED:20260411T230102Z
LAST-MODIFIED:20260411T230102Z
UID:10002246-1776502800-1776520800@www.sacketsharborsportsmansclub.com
SUMMARY:Range 3 & 4 Closed
DESCRIPTION:
URL:https://www.sacketsharborsportsmansclub.com/event/range-3-4-closed/2026-04-18/
CATEGORIES:Events
END:VEVENT
BEGIN:VEVENT
DTSTART;TZID=America/New_York:20260416T163000
DTEND;TZID=America/New_York:20260416T210000
DTSTAMP:20260421T141611
CREATED:20260413T154631Z
LAST-MODIFIED:20260413T154631Z
UID:10002250-1776357000-1776373200@www.sacketsharborsportsmansclub.com
SUMMARY:NTTL League Shoot - Sackets @ Lowville
DESCRIPTION:
URL:https://www.sacketsharborsportsmansclub.com/event/nttl-league-shoot-sackets-lowville/
CATEGORIES:Events
END:VEVENT
BEGIN:VEVENT
DTSTART;TZID=America/New_York:20260416T103000
DTEND;TZID=America/New_York:20260416T123000
DTSTAMP:20260421T141611
CREATED:20260414T152209Z
LAST-MODIFIED:20260414T152209Z
UID:10002272-1776335400-1776342600@www.sacketsharborsportsmansclub.com
SUMMARY:Covered Range Closed (JCC)
DESCRIPTION:
URL:https://www.sacketsharborsportsmansclub.com/event/covered-range-closed-jcc/
CATEGORIES:Events
END:VEVENT
BEGIN:VEVENT
DTSTART;TZID=America/New_York:20260415T033000
DTEND;TZID=America/New_York:20260415T210000
DTSTAMP:20260421T141611
CREATED:20260325T230857Z
LAST-MODIFIED:20260325T230857Z
UID:10002100-1776223800-1776286800@www.sacketsharborsportsmansclub.com
SUMMARY:Trap Practice
DESCRIPTION:
URL:https://www.sacketsharborsportsmansclub.com/event/trap-practice-3/2026-04-15/
CATEGORIES:Events
END:VEVENT
BEGIN:VEVENT
DTSTART;TZID=America/New_York:20260413T190000
DTEND;TZID=America/New_York:20260413T203000
DTSTAMP:20260421T141611
CREATED:20250820T151007Z
LAST-MODIFIED:20250820T151357Z
UID:10001196-1776106800-1776112200@www.sacketsharborsportsmansclub.com
SUMMARY:Monthly Club Business Meeting.  All members are welcome.
DESCRIPTION:
URL:https://www.sacketsharborsportsmansclub.com/event/monthly-club-business-meeting-all-members-are-welcome-7/2026-04-13/
CATEGORIES:Events
END:VEVENT
BEGIN:VEVENT
DTSTART;TZID=America/New_York:20260412T090000
DTEND;TZID=America/New_York:20260412T120000
DTSTAMP:20260421T141611
CREATED:20260325T230617Z
LAST-MODIFIED:20260325T230617Z
UID:10001839-1775984400-1775995200@www.sacketsharborsportsmansclub.com
SUMMARY:Trap Practice
DESCRIPTION:
URL:https://www.sacketsharborsportsmansclub.com/event/trap-practice/2026-04-12/
CATEGORIES:Events
END:VEVENT
BEGIN:VEVENT
DTSTART;TZID=America/New_York:20260412T080000
DTEND;TZID=America/New_York:20260412T120000
DTSTAMP:20260421T141611
CREATED:20260326T140953Z
LAST-MODIFIED:20260326T140953Z
UID:10002182-1775980800-1775995200@www.sacketsharborsportsmansclub.com
SUMMARY:Claycrushers Practice
DESCRIPTION:
URL:https://www.sacketsharborsportsmansclub.com/event/claycrushers-practice-2/2026-04-12/
CATEGORIES:Events
END:VEVENT
BEGIN:VEVENT
DTSTART;TZID=America/New_York:20260408T033000
DTEND;TZID=America/New_York:20260408T210000
DTSTAMP:20260421T141611
CREATED:20260325T230857Z
LAST-MODIFIED:20260325T230857Z
UID:10002099-1775619000-1775682000@www.sacketsharborsportsmansclub.com
SUMMARY:Trap Practice
DESCRIPTION:
URL:https://www.sacketsharborsportsmansclub.com/event/trap-practice-3/2026-04-08/
CATEGORIES:Events
END:VEVENT
BEGIN:VEVENT
DTSTART;VALUE=DATE:20260405
DTEND;VALUE=DATE:20260406
DTSTAMP:20260421T141611
CREATED:20260326T141450Z
LAST-MODIFIED:20260326T141450Z
UID:10002245-1775347200-1775433599@www.sacketsharborsportsmansclub.com
SUMMARY:SHSC CLOSED (Easter)
DESCRIPTION:
URL:https://www.sacketsharborsportsmansclub.com/event/shsc-closed-easter/
CATEGORIES:Events
END:VEVENT
BEGIN:VEVENT
DTSTART;TZID=America/New_York:20260401T033000
DTEND;TZID=America/New_York:20260401T210000
DTSTAMP:20260421T141611
CREATED:20260325T230857Z
LAST-MODIFIED:20260325T230857Z
UID:10002098-1775014200-1775077200@www.sacketsharborsportsmansclub.com
SUMMARY:Trap Practice
DESCRIPTION:
URL:https://www.sacketsharborsportsmansclub.com/event/trap-practice-3/2026-04-01/
CATEGORIES:Events
END:VEVENT
BEGIN:VEVENT
DTSTART;TZID=America/New_York:20260329T133000
DTEND;TZID=America/New_York:20260329T153000
DTSTAMP:20260421T141611
CREATED:20260301T225057Z
LAST-MODIFIED:20260325T225443Z
UID:10001404-1774791000-1774798200@www.sacketsharborsportsmansclub.com
SUMMARY:Covered Range Closed (Training)
DESCRIPTION:
URL:https://www.sacketsharborsportsmansclub.com/event/covered-range-closed-training/
CATEGORIES:Events
END:VEVENT
BEGIN:VEVENT
DTSTART;TZID=America/New_York:20260329T090000
DTEND;TZID=America/New_York:20260329T180000
DTSTAMP:20260421T141611
CREATED:20260301T224637Z
LAST-MODIFIED:20260301T224637Z
UID:10001403-1774774800-1774807200@www.sacketsharborsportsmansclub.com
SUMMARY:Firearms Training Class
DESCRIPTION:
URL:https://www.sacketsharborsportsmansclub.com/event/firearms-training-class/2026-03-29/
CATEGORIES:Events
END:VEVENT
BEGIN:VEVENT
DTSTART;TZID=America/New_York:20260329T090000
DTEND;TZID=America/New_York:20260329T120000
DTSTAMP:20260421T141611
CREATED:20260325T230431Z
LAST-MODIFIED:20260326T140607Z
UID:10001578-1774774800-1774785600@www.sacketsharborsportsmansclub.com
SUMMARY:Claycrushers Practice
DESCRIPTION:
URL:https://www.sacketsharborsportsmansclub.com/event/claycrushers-practice/2026-03-29/2/
CATEGORIES:Events
END:VEVENT
BEGIN:VEVENT
DTSTART;TZID=America/New_York:20260329T090000
DTEND;TZID=America/New_York:20260329T120000
DTSTAMP:20260421T141611
CREATED:20260325T230104Z
LAST-MODIFIED:20260325T230129Z
UID:10001577-1774774800-1774785600@www.sacketsharborsportsmansclub.com
SUMMARY:Practice (Trap & 5 Stand)
DESCRIPTION:
URL:https://www.sacketsharborsportsmansclub.com/event/practice-trap-5-stand/
CATEGORIES:Events
END:VEVENT
BEGIN:VEVENT
DTSTART;TZID=America/New_York:20260329T080000
DTEND;TZID=America/New_York:20260329T170000
DTSTAMP:20260421T141611
CREATED:20260325T230431Z
LAST-MODIFIED:20260326T140607Z
UID:10002181-1774771200-1774803600@www.sacketsharborsportsmansclub.com
SUMMARY:Claycrushers Practice
DESCRIPTION:
URL:https://www.sacketsharborsportsmansclub.com/event/claycrushers-practice/2026-03-29/1/
CATEGORIES:Events
END:VEVENT
BEGIN:VEVENT
DTSTART;TZID=America/New_York:20260328T090000
DTEND;TZID=America/New_York:20260328T180000
DTSTAMP:20260421T141611
CREATED:20260301T224637Z
LAST-MODIFIED:20260301T224637Z
UID:10001402-1774688400-1774720800@www.sacketsharborsportsmansclub.com
SUMMARY:Firearms Training Class
DESCRIPTION:
URL:https://www.sacketsharborsportsmansclub.com/event/firearms-training-class/2026-03-28/
CATEGORIES:Events
END:VEVENT
BEGIN:VEVENT
DTSTART;TZID=America/New_York:20260328T090000
DTEND;TZID=America/New_York:20260328T150000
DTSTAMP:20260421T141611
CREATED:20260308T201055Z
LAST-MODIFIED:20260308T201055Z
UID:10001409-1774688400-1774710000@www.sacketsharborsportsmansclub.com
SUMMARY:CLOSED (Lower Ranges\, Skeet Field\, Trap #3)
DESCRIPTION:
URL:https://www.sacketsharborsportsmansclub.com/event/closed-lower-ranges-skeet-field-trap-3/2026-03-28/
CATEGORIES:Events
END:VEVENT
BEGIN:VEVENT
DTSTART;TZID=America/New_York:20260327T090000
DTEND;TZID=America/New_York:20260327T150000
DTSTAMP:20260421T141611
CREATED:20260308T201055Z
LAST-MODIFIED:20260308T201055Z
UID:10001408-1774602000-1774623600@www.sacketsharborsportsmansclub.com
SUMMARY:CLOSED (Lower Ranges\, Skeet Field\, Trap #3)
DESCRIPTION:
URL:https://www.sacketsharborsportsmansclub.com/event/closed-lower-ranges-skeet-field-trap-3/2026-03-27/
CATEGORIES:Events
END:VEVENT
BEGIN:VEVENT
DTSTART;TZID=America/New_York:20260326T090000
DTEND;TZID=America/New_York:20260326T150000
DTSTAMP:20260421T141611
CREATED:20260308T201055Z
LAST-MODIFIED:20260308T201055Z
UID:10001407-1774515600-1774537200@www.sacketsharborsportsmansclub.com
SUMMARY:CLOSED (Lower Ranges\, Skeet Field\, Trap #3)
DESCRIPTION:
URL:https://www.sacketsharborsportsmansclub.com/event/closed-lower-ranges-skeet-field-trap-3/2026-03-26/
CATEGORIES:Events
END:VEVENT
BEGIN:VEVENT
DTSTART;TZID=America/New_York:20260325T090000
DTEND;TZID=America/New_York:20260325T150000
DTSTAMP:20260421T141611
CREATED:20260308T201055Z
LAST-MODIFIED:20260308T201055Z
UID:10001406-1774429200-1774450800@www.sacketsharborsportsmansclub.com
SUMMARY:CLOSED (Lower Ranges\, Skeet Field\, Trap #3)
DESCRIPTION:
URL:https://www.sacketsharborsportsmansclub.com/event/closed-lower-ranges-skeet-field-trap-3/2026-03-25/
CATEGORIES:Events
END:VEVENT
END:VCALENDAR